BEGIN:VCALENDAR
VERSION:2.0
PRODID:-//Visit Pistoia - ECPv5.3.1//NONSGML v1.0//EN
CALSCALE:GREGORIAN
METHOD:PUBLISH
X-WR-CALNAME:Visit Pistoia
X-ORIGINAL-URL:https://www.visitpistoia.eu
X-WR-CALDESC:Events for Visit Pistoia
BEGIN:VTIMEZONE
TZID:Europe/Rome
BEGIN:DAYLIGHT
TZOFFSETFROM:+0100
TZOFFSETTO:+0200
TZNAME:CEST
DTSTART:20250330T010000
END:DAYLIGHT
BEGIN:STANDARD
TZOFFSETFROM:+0200
TZOFFSETTO:+0100
TZNAME:CET
DTSTART:20251026T010000
END:STANDARD
END:VTIMEZONE
BEGIN:VEVENT
DTSTART;VALUE=DATE:20251231
DTEND;VALUE=DATE:20260101
DTSTAMP:20260425T155737
CREATED:20251124T105703Z
LAST-MODIFIED:20251127T142533Z
UID:67677-1767139200-1767225599@www.visitpistoia.eu
SUMMARY:New Year’s Eve in Pistoia 2026
DESCRIPTION:For New Year’s Eve\, Pistoia comes alive with shows\, concerts\, and parties for all tastes and ages. From classical music performances to theatrical shows\, and even a ’90s-themed party in the square\, a full programme of events will carry you through midnight and beyond\, celebrating the arrival of the new year with music\, fun\, and togetherness. \nProgram organised by Teatri di Pistoia. \nEvent included in the Pistoia Christmas City 2025 program.\nClick here to discover all the Christmas 2025 events in Pistoia. \nProgram\nAt 5 and 10 p.m.\, Il Funaro – WroOng!\nA show for all ages from 5 years old. Directed and performed by Ilaria Di Luca and Andrea Gambuzza. Orto degli Ananassi. \n9.30 p.m.\, Piccolo Teatro Mauro Bolognini – RUBEN\nA show for all audiences. With Emma Edvige Ungaro\, Damian Elencwaig\, and Marco Meneghel. Directed by Antonio Vergamini\, Compagnia Autoportante. \n9.30 p.m.\, Teatro Manzoni – Discovering Morricone\nPerformed by the Ensemble Symphony Orchestra\, conducted by Giacomo Loprieno.\nTickets available online. \nFrom 11 p.m.\, Piazza Duomo – Crazy 90s. The wildest ’90s party around\nNew Year’s Eve concert with DJ set. \nInfo\nTeatri di Pistoia\n+39 0573 991609 – 27112 – 977225
URL:https://www.visitpistoia.eu/en/evento/new-years-eve-in-pistoia-2026/
LOCATION:Luoghi vari\, Pistoia\, 5100
ATTACH;FMTTYPE=image/png:https://www.visitpistoia.eu/wp-content/uploads/2025/11/2026-1.png
END:VEVENT
END:VCALENDAR