BEGIN:VCALENDAR
VERSION:2.0
PRODID:-//Visit Pistoia - ECPv5.3.1//NONSGML v1.0//EN
CALSCALE:GREGORIAN
METHOD:PUBLISH
X-WR-CALNAME:Visit Pistoia
X-ORIGINAL-URL:https://www.visitpistoia.eu
X-WR-CALDESC:Events for Visit Pistoia
BEGIN:VTIMEZONE
TZID:Europe/Rome
BEGIN:DAYLIGHT
TZOFFSETFROM:+0100
TZOFFSETTO:+0200
TZNAME:CEST
DTSTART:20260329T010000
END:DAYLIGHT
BEGIN:STANDARD
TZOFFSETFROM:+0200
TZOFFSETTO:+0100
TZNAME:CET
DTSTART:20261025T010000
END:STANDARD
END:VTIMEZONE
BEGIN:VEVENT
DTSTART;VALUE=DATE:20260723
DTEND;VALUE=DATE:20260727
DTSTAMP:20260424T055655
CREATED:20260202T151708Z
LAST-MODIFIED:20260423T091316Z
UID:70774-1784764800-1785110399@www.visitpistoia.eu
SUMMARY:Porretta Soul Festival 2026
DESCRIPTION:In the heart of the Apennines\, on the border between Emilia-Romagna and Tuscany\, Porretta Terme once again hosts the Porretta Soul Festival\, the most important European event dedicated to soul music\, which has been attracting fans and artists from all over the world for 38 years. \nFrom Thursday 23 to Sunday 26 July 2026\, numerous artists will take turns on stage at the Rufus Thomas Park\, transforming the town into an international meeting point for music\, culture\, and the timeless atmosphere of soul. \nThe program includes four days of concerts and cultural events\, in a unique setting where the bond between music and territory is renewed year after year. \nProgram\nThursday 23 July\nCurtis Salgado & Soul Shot Band\, Mitch Woods & Bononia Sound Machine\, The Sweethearts\, Special Guest (TBA). \nFriday 24 July\nEric Gales\, Stefanie Bolton\, Bigg Robb\, Memphis Music Hall of Fame Band\, The Jewels\, Tad Robinson Band. \nSaturday 25 July\nLenny Williams\, Karen Wolfe\, Memphis Music Hall of Fame Band\, The Jewels\, Thornetta Davis & ZBlues Band. \nSunday 26 July\nMemphis Music Hall of Fame Band Revue with The Jewels\, Eric Gales\, Lenny Williams\, Stefanie Bolton\, Bigg Robb\, Karen Wolfe\, John Ellison (from Soul Brothers Six). \nDetails\nFree admission for children up to 13 years old if accompanied by parents.\n50% discount for young people aged 14 to 18. \nInfo\nPorretta Soul Festival \nClick here to buy tickets \nPhoto credit: Porretta Soul Festival Facebook
URL:https://www.visitpistoia.eu/en/evento/porretta-soul-festival-2026/
LOCATION:Rufus Thomas Park\, Porretta Terme\, 40046\, Italia
ATTACH;FMTTYPE=image/jpeg:https://www.visitpistoia.eu/wp-content/uploads/2024/07/Porretta-gran-finale-2012-ph.-Nigel-Beckwith.jpg
END:VEVENT
END:VCALENDAR