BEGIN:VCALENDAR
VERSION:2.0
PRODID:-//Visit Pistoia - ECPv5.3.1//NONSGML v1.0//EN
CALSCALE:GREGORIAN
METHOD:PUBLISH
X-WR-CALNAME:Visit Pistoia
X-ORIGINAL-URL:https://www.visitpistoia.eu
X-WR-CALDESC:Events for Visit Pistoia
BEGIN:VTIMEZONE
TZID:Europe/Rome
BEGIN:DAYLIGHT
TZOFFSETFROM:+0100
TZOFFSETTO:+0200
TZNAME:CEST
DTSTART:20260329T010000
END:DAYLIGHT
BEGIN:STANDARD
TZOFFSETFROM:+0200
TZOFFSETTO:+0100
TZNAME:CET
DTSTART:20261025T010000
END:STANDARD
END:VTIMEZONE
BEGIN:VEVENT
DTSTART;VALUE=DATE:20260106
DTEND;VALUE=DATE:20260107
DTSTAMP:20260425T174457
CREATED:20251124T112513Z
LAST-MODIFIED:20251127T141719Z
UID:67674-1767657600-1767743999@www.visitpistoia.eu
SUMMARY:The Befana’s Descent from the Bell Tower
DESCRIPTION:On Tuesday\, 6 January 2026\, from 4 to 6 p.m.\, Pistoia will celebrate Epiphany with the traditional Befana descent from the Bell Tower\, a special moment that will leave both children and adults looking up in awe. \nOrganised by the Pistoia branch of the National Firefighters Association (Associazione Nazionale dei Vigili del Fuoco del Corpo Nazionale Onlus) in collaboration with the Municipality of Pistoia. \nEvent included in the Pistoia Christmas City 2025 program.\nClick here to discover all the Christmas 2025 events in Pistoia. \nInfo\nAssociazione nazionale Vigili del Fuoco – Pistoia\npistoia@anvvf.it
URL:https://www.visitpistoia.eu/en/evento/the-befanas-descent-from-the-bell-tower-2026/
LOCATION:Piazza del Duomo\, Piazza del Duomo\, Pistoia\, 51100
ATTACH;FMTTYPE=image/jpeg:https://www.visitpistoia.eu/wp-content/uploads/2023/11/Befana_Vigili-del-fuoco-scaled.jpg
END:VEVENT
END:VCALENDAR