BEGIN:VCALENDAR
VERSION:2.0
PRODID:-//Visit Pistoia - ECPv5.3.1//NONSGML v1.0//EN
CALSCALE:GREGORIAN
METHOD:PUBLISH
X-WR-CALNAME:Visit Pistoia
X-ORIGINAL-URL:https://www.visitpistoia.eu
X-WR-CALDESC:Eventi per Visit Pistoia
BEGIN:VTIMEZONE
TZID:Europe/Rome
BEGIN:DAYLIGHT
TZOFFSETFROM:+0100
TZOFFSETTO:+0200
TZNAME:CEST
DTSTART:20230326T010000
END:DAYLIGHT
BEGIN:STANDARD
TZOFFSETFROM:+0200
TZOFFSETTO:+0100
TZNAME:CET
DTSTART:20231029T010000
END:STANDARD
END:VTIMEZONE
BEGIN:VEVENT
DTSTART;TZID=Europe/Rome:20231005T180000
DTEND;TZID=Europe/Rome:20231005T180000
DTSTAMP:20260425T214508
CREATED:20230929T070907Z
LAST-MODIFIED:20231006T130350Z
UID:42781-1696528800-1696528800@www.visitpistoia.eu
SUMMARY:'900 Talks a Palazzo de' Rossi
DESCRIPTION:Tornano gli appuntamenti con ‘900 Talks\, il programma di approfondimenti dedicato ai linguaggi dell’arte del XX e XXI secolo. \nQuesto nuovo ciclo prende spunto da opere di Intesa Sanpaolo presenti nel percorso permanente di Palazzo de’ Rossi | Collezioni del Novecento o in prestito temporaneo come In visita | Giorgio de Chirico. \nIl fascino dell’arte classica attraverso le scoperte archeologiche segna le vicende umane e artistiche di molti autori del Novecento e costituisce un tema comune alle tre conversazioni. \nProgramma\nGiovedì 5 ottobre\nFaustina e Raissa: nomi e volti delle donne dall’antichità al Novecento \nConversazione con Monica Preti\, direttrice Pistoia Musei\, Cristina Taddei\, conservatrice archeologa Pistoia Musei\, Novella Lapini\, epigrafista\nMarina Lo Blundo\, responsabile Archivio fotografico di Ostia e blogger \nDialogo tra archeologhe e storiche dell’arte per indagare i modi di rappresentare e conservare la memoria dell’identità femminile. Punto di partenza della riflessione: i ritratti e le vicende dell’imperatrice Faustina Maggiore e dell’archeologa Raissa Gurevič\, evocate nell’allestimento di In visita | Giorgio de Chirico. \nClicca qui per prenotare. \nSabato 21 ottobre\n1925-1930: classicismo\, serialità e mercato. Giorgio de Chirico sulla scena parigina \nConversazione con Monica Preti\, direttrice Pistoia Musei\, Annamaria Iacuzzi\, conservatrice per le collezioni del Novecento Pistoia Musei\nGiovanni Casini\, ricercatore e curatore indipendente \nRistabilitosi a Parigi nel 1925\, Giorgio de Chirico riscontra un successo senza precedenti\, suscitando l’attenzione di Léonce Rosenberg e Paul Guillaume\, influenti mercanti d’arte. Attorno a questi tre personaggi emerge una fitta rete di critici e di gallerie con ramificazioni a livello internazionale e un maturo sistema dell’arte contemporanea. \nPartendo dalla storia del dipinto Manichini in riva al mare\, attualmente In visita a Palazzo de’ Rossi\, l’intervento di Giovanni Casini rievoca questo contesto storico-artistico\, mettendo in luce l’atteggiamento dell’artista nei confronti di un mercato capace di influenzare una particolare modalità di lavoro e una produzione di quadri in serie. \nClicca qui per prenotare. \nSabato 18 novembre\nUna scultura “inattesa”. Dialogo intorno all’esposizione di Gallerie d’Italia a Milano \nConversazione con Monica Preti\, direttrice Pistoia Musei\, Luca Massimo Barbero\, curatore associato Collezioni Intesa Sanpaolo \nIl titolo di questo talk prende spunto dalla mostra Una collezione inattesa alle Gallerie d’Italia di Milano (maggio-ottobre 2023). Si tratta di un percorso espositivo ideato da Luca Massimo Barbero\, curatore associato delle Collezioni di Arte Moderna e Contemporanea di Intesa Sanpaolo\, che ha selezionato e ordinato alcune delle opere più significative della collezione. \nIn questa esposizione\, il perno centrale è costituito da Pomona di Marino Marini. Da qui inizia il dialogo attorno all’opera di Marini e agli altri scultori di questa originale esposizione. \nClicca qui per prenotare. \nDettagli\nTutti gli incontri si tengono a Palazzo de’ Rossi dalle ore 18.\nL’ingresso è gratuito con prenotazione obbligatoria.\nAi partecipanti è riservato il biglietto ridotto alle Collezioni di Pistoia Musei. \nInfo\nPistoia Musei
URL:https://www.visitpistoia.eu/evento/900-talks-a-palazzo-de-rossi-2023/2023-10-05/
LOCATION:Fondazione Pistoia Musei – Palazzo de’ Rossi\, Via de' Rossi\, Pistoia\, 51100
ATTACH;FMTTYPE=image/jpeg:https://www.visitpistoia.eu/wp-content/uploads/2023/04/de_Chirico_Manichini_in_riva_al_mare.jpg
GEO:43.93505;10.915565
X-APPLE-STRUCTURED-LOCATION;VALUE=URI;X-ADDRESS=Fondazione Pistoia Musei – Palazzo de’ Rossi Via de' Rossi Pistoia 51100;X-APPLE-RADIUS=500;X-TITLE=Via de' Rossi:geo:10.915565,43.93505
END:VEVENT
END:VCALENDAR