BEGIN:VCALENDAR
VERSION:2.0
PRODID:-//Visit Pistoia - ECPv5.3.1//NONSGML v1.0//EN
CALSCALE:GREGORIAN
METHOD:PUBLISH
X-WR-CALNAME:Visit Pistoia
X-ORIGINAL-URL:https://www.visitpistoia.eu
X-WR-CALDESC:Eventi per Visit Pistoia
BEGIN:VTIMEZONE
TZID:Europe/Rome
BEGIN:DAYLIGHT
TZOFFSETFROM:+0100
TZOFFSETTO:+0200
TZNAME:CEST
DTSTART:20220327T010000
END:DAYLIGHT
BEGIN:STANDARD
TZOFFSETFROM:+0200
TZOFFSETTO:+0100
TZNAME:CET
DTSTART:20221030T010000
END:STANDARD
END:VTIMEZONE
BEGIN:VEVENT
DTSTART;TZID=Europe/Rome:20221105T170000
DTEND;TZID=Europe/Rome:20221105T180000
DTSTAMP:20260420T104023
CREATED:20220601T103146Z
LAST-MODIFIED:20230103T085924Z
UID:23168-1667667600-1667671200@www.visitpistoia.eu
SUMMARY:Alla scoperta del Teatrino Gatteschi
DESCRIPTION:Scopriamo il Teatrino Gatteschi\, gioiello artistico e architettonico della città di Pistoia. OltrePistoia\, in collaborazione con l’Associazione G713\, vi accompagnerà in questo viaggio. \nQuesto piccolissimo teatro in stile tardo barocco vi stupirà con i suoi 70 mq disposti su due livelli. Invenzioni architettoniche\, stucchi e affreschi a trompe-l’œil vi incanteranno. \nLa visita sarà resa più golosa da un aperitivo o merenda presso la Caffetteria del Polo Culturale Puccini Gatteschi. Il Teatrino si trova all’interno di Palazzo Gatteschi\, nei pressi del giardino di Palazzo Puccini. \nPrenotazione obbligatoria al numero +39 340 1123952. \nDettagli\nOrario: dalle 18  alle 19\nDurata: un’ora circa\nContributo: €10\nPartecipanti: massimo 15 \nInfo\nOltre Pistoia
URL:https://www.visitpistoia.eu/evento/alla-scoperta-del-teatrino-gatteschi/2022-11-05/
LOCATION:Polo Culturale Puccini Gatteschi\, Vicolo del Malconsiglio 7\, Pistoia\, 51100
CATEGORIES:Arte,Visita Guidata
ATTACH;FMTTYPE=image/jpeg:https://www.visitpistoia.eu/wp-content/uploads/2021/10/39-gatteschi.jpeg
END:VEVENT
END:VCALENDAR