BEGIN:VCALENDAR
VERSION:2.0
PRODID:-//Visit Pistoia - ECPv5.3.1//NONSGML v1.0//EN
CALSCALE:GREGORIAN
METHOD:PUBLISH
X-WR-CALNAME:Visit Pistoia
X-ORIGINAL-URL:https://www.visitpistoia.eu
X-WR-CALDESC:Eventi per Visit Pistoia
BEGIN:VTIMEZONE
TZID:Europe/Rome
BEGIN:DAYLIGHT
TZOFFSETFROM:+0100
TZOFFSETTO:+0200
TZNAME:CEST
DTSTART:20260329T010000
END:DAYLIGHT
BEGIN:STANDARD
TZOFFSETFROM:+0200
TZOFFSETTO:+0100
TZNAME:CET
DTSTART:20261025T010000
END:STANDARD
END:VTIMEZONE
BEGIN:VEVENT
DTSTART;TZID=Europe/Rome:20260328T163000
DTEND;TZID=Europe/Rome:20260328T190000
DTSTAMP:20260419T222536
CREATED:20260303T083033Z
LAST-MODIFIED:20260303T083628Z
UID:69848-1774715400-1774724400@www.visitpistoia.eu
SUMMARY:Après-ski all’Abetone
DESCRIPTION:Dopo una giornata sulle piste\, concedetevi un momento di allegria e divertimento con la Grande Festa Après-ski all’Abetone. \nTutte i sabati di marzo\, vi aspetta un’atmosfera rilassata e conviviale\, tra musica\, drink e il fascino della montagna\, per chiudere al meglio la giornata sulla neve. Un’occasione perfetta per ritrovarsi\, brindare e continuare a respirare la magia dell’inverno anche dopo la chiusura degli impianti. \nL’evento si svolgerà come sempre sul parterre dell’ovovia\, in via Brennero 489 (Abetone\, PT). Ingresso gratuito. \nÈ inoltre prevista la possibilità di trasferimento con autobus privato su richiesta\, per agevolare la partecipazione all’iniziativa. \nClicca qui per la locandina \nProgramma\nSabato 7 marzo – Tremenda\nSabato 14 marzo – Becky DJ\nSabato 21 marzo – Vintage 70/80 Après-Ski\nSabato 28 marzo – Pinocchio sugli sci Après-Ski \nInfo\nAbetone Official
URL:https://www.visitpistoia.eu/evento/apres-ski-allabetone-marzo-2026/2026-03-28/
LOCATION:Abetone Ovovia\, Via Brennero 489\, Abetone\, 51021
ATTACH;FMTTYPE=image/jpeg:https://www.visitpistoia.eu/wp-content/uploads/2026/03/aperitivo-in-montagna-neve-drink.jpg
END:VEVENT
END:VCALENDAR