BEGIN:VCALENDAR
VERSION:2.0
PRODID:-//Visit Pistoia - ECPv5.3.1//NONSGML v1.0//EN
CALSCALE:GREGORIAN
METHOD:PUBLISH
X-WR-CALNAME:Visit Pistoia
X-ORIGINAL-URL:https://www.visitpistoia.eu
X-WR-CALDESC:Eventi per Visit Pistoia
BEGIN:VTIMEZONE
TZID:Europe/Rome
BEGIN:DAYLIGHT
TZOFFSETFROM:+0100
TZOFFSETTO:+0200
TZNAME:CEST
DTSTART:20260329T010000
END:DAYLIGHT
BEGIN:STANDARD
TZOFFSETFROM:+0200
TZOFFSETTO:+0100
TZNAME:CET
DTSTART:20261025T010000
END:STANDARD
END:VTIMEZONE
BEGIN:VEVENT
DTSTART;TZID=Europe/Rome:20260215T173000
DTEND;TZID=Europe/Rome:20260215T173000
DTSTAMP:20260424T140905
CREATED:20260119T111205Z
LAST-MODIFIED:20260126T090952Z
UID:68819-1771176600-1771176600@www.visitpistoia.eu
SUMMARY:Armonie di cioccolato
DESCRIPTION:Domenica 15 febbraio 2026\, alle ore 17.30\, musica e gusto si incontrano a Villa Magni con il concerto Armonie di cioccolato. \nIl programma prevede un concerto swing per flauto\, canto e pianoforte\, con brani di Buscaglione\, Capotosti\, Carosone\, Arlen\, D’Anzi\, Morricone\, Paoli\, Bixio\, Eros Ramazzotti e Fred Caputo. \nL’appuntamento musicale sarà accompagnato da cioccolata calda del TABA di Pistoia. \nClicca qui per la locandina \nDettagli\nIngresso: € 10 \nInfo\nAssociazione Armonie in Villa
URL:https://www.visitpistoia.eu/evento/armonie-di-cioccolato-villa-magni/
LOCATION:Villa Magni\, Via Marini Marino 4\, Pistoia\, 51100
ATTACH;FMTTYPE=image/jpeg:https://www.visitpistoia.eu/wp-content/uploads/2026/01/cioccolata-concerto.jpg
END:VEVENT
END:VCALENDAR