BEGIN:VCALENDAR
VERSION:2.0
PRODID:-//Visit Pistoia - ECPv5.3.1//NONSGML v1.0//EN
CALSCALE:GREGORIAN
METHOD:PUBLISH
X-WR-CALNAME:Visit Pistoia
X-ORIGINAL-URL:https://www.visitpistoia.eu
X-WR-CALDESC:Eventi per Visit Pistoia
BEGIN:VTIMEZONE
TZID:Europe/Rome
BEGIN:DAYLIGHT
TZOFFSETFROM:+0100
TZOFFSETTO:+0200
TZNAME:CEST
DTSTART:20260329T010000
END:DAYLIGHT
BEGIN:STANDARD
TZOFFSETFROM:+0200
TZOFFSETTO:+0100
TZNAME:CET
DTSTART:20261025T010000
END:STANDARD
END:VTIMEZONE
BEGIN:VEVENT
DTSTART;TZID=Europe/Rome:20260220T210000
DTEND;TZID=Europe/Rome:20260220T210000
DTSTAMP:20260425T142951
CREATED:20260123T144552Z
LAST-MODIFIED:20260123T144552Z
UID:69007-1771621200-1771621200@www.visitpistoia.eu
SUMMARY:Asbesto indistruttibile. Cento anni di amianto
DESCRIPTION:Venerdì 20 febbraio 2026\, alle ore 21\, al Piccolo Teatro Bolognini di Pistoia\, va in scena Asbesto indistruttibile. Cento anni di amianto\, testo di Claudia Cappellini con la regia di Monica Menchi. \nL’evento è promosso da Legambiente – Circolo di Pistoia\, in collaborazione con l’Associazione Progetto Teatro.\nL’ingresso è libero con offerta: il ricavato sarà destinato alla conservazione e alla valorizzazione del CEA di Legambiente Pistoia. \nClicca qui per la locandina \nInfo\nLegambiente Pistoia\n+39 338 7290938
URL:https://www.visitpistoia.eu/evento/asbesto-indistruttibile-cento-anni-di-amianto/
LOCATION:Piccolo Teatro Bolognini\, Via del Presto\, 5\, Pistoia\, 51100\, Italia
ATTACH;FMTTYPE=image/jpeg:https://www.visitpistoia.eu/wp-content/uploads/2026/01/locandina-ASBESTO-20-febbraio-comune-lega-finalita._1-1-1.jpeg
END:VEVENT
END:VCALENDAR