BEGIN:VCALENDAR
VERSION:2.0
PRODID:-//Visit Pistoia - ECPv5.3.1//NONSGML v1.0//EN
CALSCALE:GREGORIAN
METHOD:PUBLISH
X-WR-CALNAME:Visit Pistoia
X-ORIGINAL-URL:https://www.visitpistoia.eu
X-WR-CALDESC:Eventi per Visit Pistoia
BEGIN:VTIMEZONE
TZID:Europe/Rome
BEGIN:DAYLIGHT
TZOFFSETFROM:+0100
TZOFFSETTO:+0200
TZNAME:CEST
DTSTART:20260329T010000
END:DAYLIGHT
BEGIN:STANDARD
TZOFFSETFROM:+0200
TZOFFSETTO:+0100
TZNAME:CET
DTSTART:20261025T010000
END:STANDARD
END:VTIMEZONE
BEGIN:VEVENT
DTSTART;TZID=Europe/Rome:20260127T210000
DTEND;TZID=Europe/Rome:20260127T210000
DTSTAMP:20260424T054531
CREATED:20260120T150643Z
LAST-MODIFIED:20260120T150643Z
UID:68871-1769547600-1769547600@www.visitpistoia.eu
SUMMARY:Atti di eroismo e solidarietà
DESCRIPTION:Martedì 27 gennaio 2026\, alle ore 21\, presso la Sala Consiliare del Comune di Quarrata\, si terrà un incontro in occasione dell’81° anniversario della Liberazione del campo di sterminio di Auschwitz (27 gennaio 1945). \nLa serata\, dal titolo Atti di eroismo e solidarietà durante la resistenza popolare al regime nazifascista: i casi di padre Cipriano Ricotti e della famiglia Guidotti\, sarà dedicata alla memoria e alla riflessione su esempi concreti di coraggio e umanità durante il periodo della persecuzione nazifascista. \nInterverranno: \n Padre Athos Turchi\, docente di filosofia teoretica alla Facoltà di Teologia dell’Italia Centrale ed ex priore del convento di San Marco a Firenze;\nAndrea Lottini\, autore del libro Vite sospese;\nMorello Guidotti\, testimone diretto della vicenda del salvataggio della famiglia Hirsch;\nLinda Guidotti\, nipote di Giulia Nannini\, anch’ella protagonista della vicenda. \nI lavori saranno coordinati dal giornalista Mauro Banchini. \nPorterà il saluto dell’Amministrazione comunale il Sindaco di Quarrata\, Gabriele Romiti\, mentre Pier Giorgio Pacini introdurrà l’iniziativa per la sezione ANPI di Quarrata. \nEvento con il patrocinio del Comune di Quarrata e dell’A.N.P.I. – sezione di Quarrata. \nClicca qui per la locandina \nInfo\ninfo@visitquarrata.it
URL:https://www.visitpistoia.eu/evento/atti-di-eroismo-e-solidarieta/
LOCATION:Sala Consiliare di Quarrata\, Piazza della Vittoria 1\, Quarrata\, 51039
ATTACH;FMTTYPE=image/jpeg:https://www.visitpistoia.eu/wp-content/uploads/2026/01/barbed-wire-filo-spinato-memoria.jpg
END:VEVENT
END:VCALENDAR