BEGIN:VCALENDAR
VERSION:2.0
PRODID:-//Visit Pistoia - ECPv5.3.1//NONSGML v1.0//EN
CALSCALE:GREGORIAN
METHOD:PUBLISH
X-WR-CALNAME:Visit Pistoia
X-ORIGINAL-URL:https://www.visitpistoia.eu
X-WR-CALDESC:Eventi per Visit Pistoia
BEGIN:VTIMEZONE
TZID:Europe/Rome
BEGIN:DAYLIGHT
TZOFFSETFROM:+0100
TZOFFSETTO:+0200
TZNAME:CEST
DTSTART:20260329T010000
END:DAYLIGHT
BEGIN:STANDARD
TZOFFSETFROM:+0200
TZOFFSETTO:+0100
TZNAME:CET
DTSTART:20261025T010000
END:STANDARD
END:VTIMEZONE
BEGIN:VEVENT
DTSTART;TZID=Europe/Rome:20260308T173000
DTEND;TZID=Europe/Rome:20260308T173000
DTSTAMP:20260419T191746
CREATED:20260303T103133Z
LAST-MODIFIED:20260303T103133Z
UID:69857-1772991000-1772991000@www.visitpistoia.eu
SUMMARY:Avrei voluto scarnire il vento di Grazia Frisina
DESCRIPTION:In occasione della Giornata internazionale della donna\, Auser Quarrata presenta il libro di poesie Avrei voluto scarnire il vento di Grazia Frisina. L’appuntamento è domenica 8 marzo 2026 alle ore 17.30 presso lo spazio La Civetta di Quarrata. \nL’autrice dialogherà con Isabella Giani. L’incontro sarà arricchito dall’accompagnamento musicale di Federico Paoletti e Gabriele Siciliano. \nNel libro Frisina intreccia trentadue ritratti poetici in cui il passato dialoga con il presente. Da Lilith ad Alda Merini\, passando per Teresa d’Ávila\, Persefone\, Camille Claudel\, Virginia Woolf\, Frida Kahlo e Margherita Jack\, l’autrice costruisce un gineceo immaginario\, un luogo visionario in cui mito\, storia\, arte e letteratura si contaminano. \nLe protagoniste\, donne reali e figure archetipiche\, emergono come voci che rivendicano libertà\, differenza e profondità di sguardo. Ne nasce una conversazione corale e intensa\, che celebra l’intelligenza e il coraggio di chi ha sfidato il proprio tempo. \nVersi liberi da vincoli metrici ma tesi da una limpida energia lirica restituiscono ritratti vibranti\, capaci di attraversare epoche e mondi e di parlare al presente con sorprendente forza. \nEvento a cura di Auser Quarrata\, in collaborazione con la Croce Rossa Italiana – Comitato di Piana Pistoiese. \nIngresso libero.\nClicca qui per la locandina \nInfo\nAuser Quarrata
URL:https://www.visitpistoia.eu/evento/avrei-voluto-scarnire-il-vento-di-grazia-frisina-quarrata/
LOCATION:Spazio La Civetta\, Via Corrado da Montemagno 19\, Quarrata\, 51039
ATTACH;FMTTYPE=image/jpeg:https://www.visitpistoia.eu/wp-content/uploads/2024/11/libro-presentazione-fiori-donne.jpg
END:VEVENT
END:VCALENDAR