BEGIN:VCALENDAR
VERSION:2.0
PRODID:-//Visit Pistoia - ECPv5.3.1//NONSGML v1.0//EN
CALSCALE:GREGORIAN
METHOD:PUBLISH
X-WR-CALNAME:Visit Pistoia
X-ORIGINAL-URL:https://www.visitpistoia.eu
X-WR-CALDESC:Eventi per Visit Pistoia
BEGIN:VTIMEZONE
TZID:Europe/Rome
BEGIN:DAYLIGHT
TZOFFSETFROM:+0100
TZOFFSETTO:+0200
TZNAME:CEST
DTSTART:20260329T010000
END:DAYLIGHT
BEGIN:STANDARD
TZOFFSETFROM:+0200
TZOFFSETTO:+0100
TZNAME:CET
DTSTART:20261025T010000
END:STANDARD
END:VTIMEZONE
BEGIN:VEVENT
DTSTART;TZID=Europe/Rome:20260510T210000
DTEND;TZID=Europe/Rome:20260510T210000
DTSTAMP:20260422T162057
CREATED:20260422T064556Z
LAST-MODIFIED:20260422T064616Z
UID:70729-1778446800-1778446800@www.visitpistoia.eu
SUMMARY:Baroque in Blue a Villa Magni
DESCRIPTION:Domenica 10 maggio 2026\, alle ore 21\, in occasione della Festa della Mamma\, trascorrete una serata speciale all’insegna della musica e dell’eleganza con Baroque in Blue. Presso Villa Magni di Pistoia\, un concerto originale e coinvolgente in cui le atmosfere del barocco incontrano il ritmo e il fascino dello swing. \nAd esibirsi quattro musicisti d’eccezione: Laura Caporale alla voce\, Luca Magni ai flauti\, Massimo Barsotti al pianoforte e Giulio Barsotti al contrabbasso. In programma\, celebri musiche di Vivaldi\, Händel\, Bach e altri grandi autori\, reinterpretate con gusto e creatività in chiave swing\, per un’esperienza sonora raffinata e sorprendente. \nLa serata può iniziare già dalle ore 19.45 con una cena curata da Demis\, per chi desidera vivere l’evento in un’atmosfera ancora più completa e conviviale. \nDettagli\nIngresso: € 15\nPrenotazione obbligatoria via email a masterinvilla@gmail.com oppure telefonando al +39 335 8376304. \nInfo\nVilla Magni
URL:https://www.visitpistoia.eu/evento/baroque-in-blue-a-villa-magni-2026/
LOCATION:Villa Magni\, Via Marini Marino 4\, Pistoia\, 51100
ATTACH;FMTTYPE=image/jpeg:https://www.visitpistoia.eu/wp-content/uploads/2022/12/Concerto-musica-classica.jpg
END:VEVENT
END:VCALENDAR