BEGIN:VCALENDAR
VERSION:2.0
PRODID:-//Visit Pistoia - ECPv5.3.1//NONSGML v1.0//EN
CALSCALE:GREGORIAN
METHOD:PUBLISH
X-WR-CALNAME:Visit Pistoia
X-ORIGINAL-URL:https://www.visitpistoia.eu
X-WR-CALDESC:Eventi per Visit Pistoia
BEGIN:VTIMEZONE
TZID:Europe/Rome
BEGIN:DAYLIGHT
TZOFFSETFROM:+0100
TZOFFSETTO:+0200
TZNAME:CEST
DTSTART:20250330T010000
END:DAYLIGHT
BEGIN:STANDARD
TZOFFSETFROM:+0200
TZOFFSETTO:+0100
TZNAME:CET
DTSTART:20251026T010000
END:STANDARD
END:VTIMEZONE
BEGIN:VEVENT
DTSTART;TZID=Europe/Rome:20251012T090000
DTEND;TZID=Europe/Rome:20251012T120000
DTSTAMP:20260425T144551
CREATED:20250912T080552Z
LAST-MODIFIED:20251008T081622Z
UID:65128-1760259600-1760270400@www.visitpistoia.eu
SUMMARY:Camminando per sentieri - Anello della Furba
DESCRIPTION:Domenica 12 ottobre 2025\, nell’ambito dell’iniziativa Camminando per sentieri\, un’escursione lungo l’Anello della Furba\, un itinerario di circa 6 km che offre un’esperienza immersiva tra natura\, storia e cultura\, attraversando località come Tizzana Colle. \nDurante il cammino raggiungerete il Parco Museo Quinto Martini\, il borgo di Tizzana\, con i resti del suo castello medievale\, e la tenuta agricola rinascimentale di Capezzana. Elemento di particolare pregio sarà il torrente Furba\, che in questo tratto offre un’interessante varietà di flora. \nIl nome del percorso deriva dal torrente Furba\, che viene seguito in parte durante l’escursione. Durante il periodo di ottobre sarà possibile osservare uccelli\, farfalle\, libellule e piccoli mammiferi nei tratti più tranquilli del sentiero. I panorami che si aprono lungo il percorso regaleranno scenari ideali per scatti memorabili. \nClicca qui per la locandina \nA cura di Ecoistituto delle Cerbaie.\nL’iniziativa fa parte del programma Camminando per sentieri 2025 \nProgramma\nRitrovo: domenica 12 ottobre alle ore 9 presso Tizzana\, parcheggio Chiesa di San Bartolomeo – Quarrata\nDurata: fino alle 12 circa \nDettagli\nLunghezza: 6 km\nDislivello: 280 m\nDifficoltà: T (turistica)\, adatta a tutti\nPrezzo: € 5 a persona (da pagare alla guida)\nPrenotazione obbligatoria \nEquipaggiamento\nScarponcini da trekking\, maglietta tecnica\, pantaloni da trekking\, cappellino\, felpa o softshell\, giacca impermeabile\, acqua e snack \nInfo\nm.petrolo@ecocerbaie.it\n+39 340 3460859 (Massimiliano)
URL:https://www.visitpistoia.eu/evento/camminando-per-sentieri-2025-anello-della-furba-ecoistituto-delle-cerbaie/
LOCATION:Anello della Furba\, Quarrata\, 51039
ATTACH;FMTTYPE=image/jpeg:https://www.visitpistoia.eu/wp-content/uploads/2022/07/water-3862501_1280.jpg
END:VEVENT
END:VCALENDAR