BEGIN:VCALENDAR
VERSION:2.0
PRODID:-//Visit Pistoia - ECPv5.3.1//NONSGML v1.0//EN
CALSCALE:GREGORIAN
METHOD:PUBLISH
X-WR-CALNAME:Visit Pistoia
X-ORIGINAL-URL:https://www.visitpistoia.eu
X-WR-CALDESC:Eventi per Visit Pistoia
BEGIN:VTIMEZONE
TZID:Europe/Rome
BEGIN:DAYLIGHT
TZOFFSETFROM:+0100
TZOFFSETTO:+0200
TZNAME:CEST
DTSTART:20250330T010000
END:DAYLIGHT
BEGIN:STANDARD
TZOFFSETFROM:+0200
TZOFFSETTO:+0100
TZNAME:CET
DTSTART:20251026T010000
END:STANDARD
END:VTIMEZONE
BEGIN:VEVENT
DTSTART;TZID=Europe/Rome:20251025T090000
DTEND;TZID=Europe/Rome:20251025T130000
DTSTAMP:20260425T150105
CREATED:20250912T092607Z
LAST-MODIFIED:20251007T170618Z
UID:65139-1761382800-1761397200@www.visitpistoia.eu
SUMMARY:Camminando per sentieri - Anello della Magia
DESCRIPTION:Appennino Slow vi accompagna alla scoperta del territorio quarratino con una breve e facile camminata\, pensata per apprendere le basi dell’orientamento naturale. In particolare\, potrete imparare a identificare i punti cardinali\, comprendere il funzionamento della “bussola naturale” rappresentata dal sole e individuare punti di riferimento e direzioni sul terreno. \nA cura di Appennino Slow.\nL’iniziativa fa parte della rassegna Camminando per sentieri 2025. Clicca qui per il programma completo. \nProgramma\nRitrovo: sabato 25 ottobre alle ore 9 in Piazza Risorgimento – Quarrata\nDurata: fino alle 13 circa \nDettagli\nLunghezza: 5 km\nDislivello: 100 m D+\nDifficoltà: T (turistica)\, adatta a tutti\nPrezzo: € 5 a persona (da pagare alla guida)\nPrenotazione obbligatoria \nProgramma\nScarpe con suola ben scolpita\, abbigliamento adatto alle condizioni meteo\, compresi indumenti per la pioggia\, acqua\, cibo per spuntino\, pranzo al sacco\, bastoncini da escursionismo (per chi li usa)\, penna e taccuino per disegnare l’itinerario e prendere appunti \nInfo\n+39 338 2393389 (Francesco)
URL:https://www.visitpistoia.eu/evento/camminando-per-sentieri-2025-introduzione-allorientamento-naturale-lanello-breve-della-magia/
LOCATION:Piazza Risorgimento\, Piazza Risorgimento\, Quarrata\, 51039
ATTACH;FMTTYPE=image/jpeg:https://www.visitpistoia.eu/wp-content/uploads/2023/04/cartina-bussola-navigare.jpg
END:VEVENT
END:VCALENDAR