BEGIN:VCALENDAR
VERSION:2.0
PRODID:-//Visit Pistoia - ECPv5.3.1//NONSGML v1.0//EN
CALSCALE:GREGORIAN
METHOD:PUBLISH
X-WR-CALNAME:Visit Pistoia
X-ORIGINAL-URL:https://www.visitpistoia.eu
X-WR-CALDESC:Eventi per Visit Pistoia
BEGIN:VTIMEZONE
TZID:Europe/Rome
BEGIN:DAYLIGHT
TZOFFSETFROM:+0100
TZOFFSETTO:+0200
TZNAME:CEST
DTSTART:20260329T010000
END:DAYLIGHT
BEGIN:STANDARD
TZOFFSETFROM:+0200
TZOFFSETTO:+0100
TZNAME:CET
DTSTART:20261025T010000
END:STANDARD
END:VTIMEZONE
BEGIN:VEVENT
DTSTART;TZID=Europe/Rome:20260517T090000
DTEND;TZID=Europe/Rome:20260517T113000
DTSTAMP:20260420T181121
CREATED:20260420T123509Z
LAST-MODIFIED:20260420T123554Z
UID:70688-1779008400-1779017400@www.visitpistoia.eu
SUMMARY:Camminando per Sentieri - Colle a Spazzavento
DESCRIPTION:Proseguono gli appuntamenti di Camminando per Sentieri\, il ciclo di escursioni a passo lento pensato per esplorare il territorio\, scoprirne colori\, sapori e bellezze naturali. \nDomenica 17 maggio 2026 partecipate all’escursione Passeggiata da Colle a Spazzavento e ritorno: un percorso semplice e suggestivo sui poggi di Colle\, tra natura e panorami aperti sulla campagna circostante. \nCamminando per Sentieri è un ciclo di escursioni a passo lento per esplorare il territorio di Quarrata. L’iniziativa è promossa dal Comune di Quarrata – Ufficio Turismo e Promozione del territorio\, in collaborazione con Appennino Slow\, Ecoistituto delle Cerbaie\, 4Passi One e Terre Toscane Trekking. \nClicca qui per la locandina \nProgramma\nRitrovo: domenica 17 maggio alle ore 9 presso il parcheggio del cimitero di Colle\, via Capezzana (Quarrata)\nDurata: fino alle ore 11.30  \nDettagli\nLunghezza: 4\,5 km\nDifficoltà: T (turistico)\nDislivello: +100 m\nPrezzo: € 5 a persona (da pagare alla guida)\nPrenotazione obbligatoria \nProgramma\nScarpe con suola scolpita\, abbigliamento comodo e a strati adatto alla stagione\, acqua\, repellente zanzare\, uno snack \nInfo\nTerre Toscane Trekking\nerretoscanetrekking@gmail.com\n+39 340 7867154 \nClicca qui per prenotare
URL:https://www.visitpistoia.eu/evento/camminando-per-sentieri-2026-passeggiata-da-colle-a-spazzavento-e-ritorno/
LOCATION:Quarrata\, Quarrata\, 51039
ATTACH;FMTTYPE=image/jpeg:https://www.visitpistoia.eu/wp-content/uploads/2024/04/Terre-Toscane-Trekking-scaled.jpg
END:VEVENT
END:VCALENDAR