BEGIN:VCALENDAR
VERSION:2.0
PRODID:-//Visit Pistoia - ECPv5.3.1//NONSGML v1.0//EN
CALSCALE:GREGORIAN
METHOD:PUBLISH
X-WR-CALNAME:Visit Pistoia
X-ORIGINAL-URL:https://www.visitpistoia.eu
X-WR-CALDESC:Eventi per Visit Pistoia
BEGIN:VTIMEZONE
TZID:Europe/Rome
BEGIN:DAYLIGHT
TZOFFSETFROM:+0100
TZOFFSETTO:+0200
TZNAME:CEST
DTSTART:20260329T010000
END:DAYLIGHT
BEGIN:STANDARD
TZOFFSETFROM:+0200
TZOFFSETTO:+0100
TZNAME:CET
DTSTART:20261025T010000
END:STANDARD
END:VTIMEZONE
BEGIN:VEVENT
DTSTART;TZID=Europe/Rome:20260130T210000
DTEND;TZID=Europe/Rome:20260130T210000
DTSTAMP:20260424T064733
CREATED:20260122T155921Z
LAST-MODIFIED:20260122T163436Z
UID:68941-1769806800-1769806800@www.visitpistoia.eu
SUMMARY:Classico contemporaneo. Con Martina Catarsi
DESCRIPTION:Per la rassegna Venerdì in musica\, appuntamento al Polo Culturale Puccini Gatteschi con Classico contemporaneo di Martina Catarsi. \nVenerdì 30 gennaio 2026\, alle ore 21\, la giovane musicista proporrà un’antologia di brani leggendari che\, tra luce e poesia\, continuano a parlarci del presente. \nClicca qui per la locandina \nDettagli\nCosto: soci € 10\nTessera annuale: € 5\nAlle ore 20 apericena su prenotazione al costi di € 10 (bevande escluse). Prenotazione gradita. \nInfo\nPolo Culturale Puccini Gatteschi
URL:https://www.visitpistoia.eu/evento/classico-contemporaneo-con-martina-catarsi/
LOCATION:Polo Culturale Puccini Gatteschi\, Vicolo del Malconsiglio 7\, Pistoia\, 51100
ATTACH;FMTTYPE=image/jpeg:https://www.visitpistoia.eu/wp-content/uploads/2022/12/Concerto-musica-classica.jpg
END:VEVENT
END:VCALENDAR