BEGIN:VCALENDAR
VERSION:2.0
PRODID:-//Visit Pistoia - ECPv5.3.1//NONSGML v1.0//EN
CALSCALE:GREGORIAN
METHOD:PUBLISH
X-WR-CALNAME:Visit Pistoia
X-ORIGINAL-URL:https://www.visitpistoia.eu
X-WR-CALDESC:Eventi per Visit Pistoia
BEGIN:VTIMEZONE
TZID:Europe/Rome
BEGIN:DAYLIGHT
TZOFFSETFROM:+0100
TZOFFSETTO:+0200
TZNAME:CEST
DTSTART:20250330T010000
END:DAYLIGHT
BEGIN:STANDARD
TZOFFSETFROM:+0200
TZOFFSETTO:+0100
TZNAME:CET
DTSTART:20251026T010000
END:STANDARD
END:VTIMEZONE
BEGIN:VEVENT
DTSTART;TZID=Europe/Rome:20250927T150000
DTEND;TZID=Europe/Rome:20250927T170000
DTSTAMP:20260419T231209
CREATED:20250922T065448Z
LAST-MODIFIED:20250922T065518Z
UID:65420-1758985200-1758992400@www.visitpistoia.eu
SUMMARY:Essere Natura: yoga\, cammino e convivialità
DESCRIPTION:Festeggiate con noi l’arrivo dell’autunno con un’esperienza autentica di connessione con la Natura al Campus Vannucci di Pistoia. \nSabato 27 settembre 2025\, dalle 15 alle 17\, vi aspetta un pomeriggio per rallentare e rinnovarvi\, proprio come gli alberi che si spogliano delle loro foglie. \nInizierete con una camminata consapevole guidata da Martina Notari\, giornalista e divulgatrice di Ecosofia\, che vi accompagnerà a ritrovare radicamento e ascolto interiore. Proseguirete poi con una pratica yoga condotta da Veronica Ceccherini\, pensata per aiutarvi ad armonizzarvi con l’energia autunnale. \nConcluderete il percorso con un momento conviviale che prevede una tisana calda alle erbe aromatiche e piccoli assaggi di stagione\, per accogliere l’autunno anche attraverso i sapori. \nClicca qui per la locandina \nDettagli\nCosto: €25 a persona | €20 se in coppia \nInfo\ninfo@alcentrodite.it\n+39 346 51479
URL:https://www.visitpistoia.eu/evento/essere-natura-yoga-cammino-e-convivialita-27-settembre-2025/
LOCATION:Vannucci Campus\, Via Bonellina 116\, Pistoia\, 51100
ATTACH;FMTTYPE=image/jpeg:https://www.visitpistoia.eu/wp-content/uploads/2021/07/Yoga-meditazione-relax.jpg
END:VEVENT
END:VCALENDAR