BEGIN:VCALENDAR
VERSION:2.0
PRODID:-//Visit Pistoia - ECPv5.3.1//NONSGML v1.0//EN
CALSCALE:GREGORIAN
METHOD:PUBLISH
X-WR-CALNAME:Visit Pistoia
X-ORIGINAL-URL:https://www.visitpistoia.eu
X-WR-CALDESC:Eventi per Visit Pistoia
BEGIN:VTIMEZONE
TZID:Europe/Rome
BEGIN:DAYLIGHT
TZOFFSETFROM:+0100
TZOFFSETTO:+0200
TZNAME:CEST
DTSTART:20260329T010000
END:DAYLIGHT
BEGIN:STANDARD
TZOFFSETFROM:+0200
TZOFFSETTO:+0100
TZNAME:CET
DTSTART:20261025T010000
END:STANDARD
END:VTIMEZONE
BEGIN:VEVENT
DTSTART;TZID=Europe/Rome:20260205T213000
DTEND;TZID=Europe/Rome:20260205T213000
DTSTAMP:20260425T123014
CREATED:20260123T082510Z
LAST-MODIFIED:20260123T082532Z
UID:68954-1770327000-1770327000@www.visitpistoia.eu
SUMMARY:Evil Panther & Cool Cat in concerto
DESCRIPTION:Il duo Evil Panther & Cool Cat\, formato da Emiliano Degl’Innocenti (chitarra e voce) e Niccolò Pizzicori (contrabbasso e voce)\, porta sul palco della Fondazione Luigi Tronci tutta l’energia del blues tradizionale: dalle radici dell’America rurale di un secolo fa fino alle sue declinazioni più contemporanee. Il concerto\, capace di raccontare storie e atmosfere senza tempo\, si terrà giovedì 5 febbraio 2026 alle ore 21.30. \nEmiliano Degl’Innocenti\, chitarrista dal cuore profondamente Delta Blues\, negli ultimi trent’anni ha condiviso palco e studio con grandi nomi della musica afroamericana come Eddie Floyd\, Ben E. King\, The Miracles e Lee “Scratch” Perry. Ha collaborato stabilmente con Guitar Crusher e con numerose formazioni locali\, costruendo nel tempo un linguaggio musicale autentico\, solido e ricco di esperienza. \nBassista attivo dal 2005\, Niccolò Pizzicori è innamorato del blues in tutte le sue sfumature. Ha suonato in festival storici come Blues in Hydro\, Pistoia Blues e Bordighera. Affascinato dalla figura di Willie Dixon\, si è avvicinato al contrabbasso per esplorare le radici più profonde del Chicago Blues\, portando sul palco un groove caldo\, essenziale e coinvolgente. \nDettagli\nIngresso a offerta consapevole\, a sostegno della Fondazione Luigi Tronci. \nInfo\nFondazione Luigi Tronci
URL:https://www.visitpistoia.eu/evento/evil-panther-cool-cat-in-concerto/
LOCATION:Fondazione Luigi Tronci\, Corso A. Gramsci\, 7\, Pistoia\, 51100\, Italia
ATTACH;FMTTYPE=image/jpeg:https://www.visitpistoia.eu/wp-content/uploads/2025/07/cello-violoncello-musica-concerto.jpg
END:VEVENT
END:VCALENDAR