BEGIN:VCALENDAR
VERSION:2.0
PRODID:-//Visit Pistoia - ECPv5.3.1//NONSGML v1.0//EN
CALSCALE:GREGORIAN
METHOD:PUBLISH
X-WR-CALNAME:Visit Pistoia
X-ORIGINAL-URL:https://www.visitpistoia.eu
X-WR-CALDESC:Eventi per Visit Pistoia
BEGIN:VTIMEZONE
TZID:Europe/Rome
BEGIN:DAYLIGHT
TZOFFSETFROM:+0100
TZOFFSETTO:+0200
TZNAME:CEST
DTSTART:20250330T010000
END:DAYLIGHT
BEGIN:STANDARD
TZOFFSETFROM:+0200
TZOFFSETTO:+0100
TZNAME:CET
DTSTART:20251026T010000
END:STANDARD
END:VTIMEZONE
BEGIN:VEVENT
DTSTART;TZID=Europe/Rome:20250921T113000
DTEND;TZID=Europe/Rome:20250921T130000
DTSTAMP:20260420T043830
CREATED:20250919T080106Z
LAST-MODIFIED:20250919T080106Z
UID:65403-1758454200-1758459600@www.visitpistoia.eu
SUMMARY:Festa della vendemmia in fattoria
DESCRIPTION:Settembre è il mese della vendemmia\, il momento in cui l’uva viene raccolta e pigiata per trasformarsi nel vino\, simbolo e tesoro delle nostre colline. \nDomenica 21 settembre 2025 alle ore 11.30\, presso l’Azienda Canto di Primavera del Sogno Antico\, i bambini vivranno un’esperienza indimenticabile insieme a Gabriella la pastora\, pestando l’uva con i piedi e divertendosi nel riscoprire una tradizione antica e gioiosa. \nA seguire\, sarà possibile gustare un pranzo con prodotti locali e a km 0. \nClicca qui per la locandina \nDettagli\nPranzo: € 30 adulti | € 20 bambini (comprensivo di laboratorio) \nInfo\nAzienda Canto di Primavera del Sogno Antico\n+39 339 6855385
URL:https://www.visitpistoia.eu/evento/festa-della-vendemmia-in-fattoria-quarrata/
LOCATION:Canto di Primavera del Sogno Antico\, Via del Collelungo 21\, Forrottoli\, Quarrata\, 51039
ATTACH;FMTTYPE=image/jpeg:https://www.visitpistoia.eu/wp-content/uploads/2023/03/vigna-uva-vino.jpg
END:VEVENT
END:VCALENDAR