BEGIN:VCALENDAR
VERSION:2.0
PRODID:-//Visit Pistoia - ECPv5.3.1//NONSGML v1.0//EN
CALSCALE:GREGORIAN
METHOD:PUBLISH
X-WR-CALNAME:Visit Pistoia
X-ORIGINAL-URL:https://www.visitpistoia.eu
X-WR-CALDESC:Eventi per Visit Pistoia
BEGIN:VTIMEZONE
TZID:Europe/Rome
BEGIN:DAYLIGHT
TZOFFSETFROM:+0100
TZOFFSETTO:+0200
TZNAME:CEST
DTSTART:20250330T010000
END:DAYLIGHT
BEGIN:STANDARD
TZOFFSETFROM:+0200
TZOFFSETTO:+0100
TZNAME:CET
DTSTART:20251026T010000
END:STANDARD
END:VTIMEZONE
BEGIN:VEVENT
DTSTART;TZID=Europe/Rome:20250926T204500
DTEND;TZID=Europe/Rome:20250926T204500
DTSTAMP:20260419T201859
CREATED:20250922T132218Z
LAST-MODIFIED:20250922T132313Z
UID:65441-1758919500-1758919500@www.visitpistoia.eu
SUMMARY:Giocaconisa. Serate ludiche
DESCRIPTION:Venerdì 26 settembre 2025 l’associazione Giocaconisa vi aspetta a Serravalle Pistoiese\, nei locali dell’ex scuola di via Garibaldi\, per una serata all’insegna dei giochi da tavolo e del divertimento condiviso. \nL’incontro è aperto a tutti – adulti\, ragazzi e bambini – per sfidarsi e divertirsi con giochi da tavolo di diversa durata e livello di difficoltà\, con alcune novità presentate in anteprima assoluta. \nAd accompagnarvi ci saranno dimostratori esperti\, pronti a guidare le partite e a farvi scoprire ogni segreto dei giochi. \nIngresso libero a partire dalle ore 20.45.\nClicca qui per la locandina \nInfo e prenotazioni\ninfo@giocaconisa.it\n+39 328 1135892
URL:https://www.visitpistoia.eu/evento/giocaconisa-serate-ludiche-26-settembre-2025/
LOCATION:Ex Scuola dell’Infanzia\, Via Garibaldi\, Serravalle Pistoiese\, 51030
ATTACH;FMTTYPE=image/jpeg:https://www.visitpistoia.eu/wp-content/uploads/2025/02/gioconisa-serata-ludica.jpg
END:VEVENT
END:VCALENDAR