BEGIN:VCALENDAR
VERSION:2.0
PRODID:-//Visit Pistoia - ECPv5.3.1//NONSGML v1.0//EN
CALSCALE:GREGORIAN
METHOD:PUBLISH
X-WR-CALNAME:Visit Pistoia
X-ORIGINAL-URL:https://www.visitpistoia.eu
X-WR-CALDESC:Eventi per Visit Pistoia
BEGIN:VTIMEZONE
TZID:Europe/Rome
BEGIN:DAYLIGHT
TZOFFSETFROM:+0100
TZOFFSETTO:+0200
TZNAME:CEST
DTSTART:20240331T010000
END:DAYLIGHT
BEGIN:STANDARD
TZOFFSETFROM:+0200
TZOFFSETTO:+0100
TZNAME:CET
DTSTART:20241027T010000
END:STANDARD
END:VTIMEZONE
BEGIN:VEVENT
DTSTART;VALUE=DATE:20241013
DTEND;VALUE=DATE:20241014
DTSTAMP:20260425T150615
CREATED:20240917T101111Z
LAST-MODIFIED:20241003T111248Z
UID:54951-1728777600-1728863999@www.visitpistoia.eu
SUMMARY:Giornate FAI d’Autunno 2024
DESCRIPTION:Sabato 12 e domenica 13 ottobre 2024 tornano le Giornate FAI d’Autunno\, evento dedicato alla valorizzazione del patrimonio culturale e paesaggistico italiano. \nL’iniziativa\, promossa dai Gruppi FAI Giovani e supportato dai volontari della Rete Territoriale della Fondazione\, apre al pubblico luoghi di straordinaria bellezza e interesse\, molti dei quali normalmente inaccessibili. \nAnche in questa XIII edizione\, i volontari contribuiranno\, con la loro energia e passione\, a offrire un’esperienza unica e immersiva di arte\, storia e natura. Le Giornate FAI d’Autunno rappresentano un’importante opportunità per approfondire la missione del FAI e per scoprire il ricco e variegato patrimonio culturale e ambientale del nostro Paese. \nLuoghi FAI aperti a Pistoia\nCappella del Santissimo Crocifisso\nPhoto credit: Gruppo FAI Pistoia e Montagna Pistoiese\nL’Oratorio o Cappella del Santissimo Crocifisso si trova nel centro storico della città di Pistoia\, all’interno del Giardino Paolo Novelli che si affaccia su corso Gramsci\, dirimpetto all’abside della Chiesa di San Francesco\, e fiancheggia l’attuale Liceo Statale Niccolò Forteguerri. \nL’oratorio\, con pianta centrale a croce greca\, venne costruito nel 1752 su disegno della bottega degli Arrighi\, di origine comasca. Così come il precedente del 1633\, andato poi distrutto\, la sua funzione era quella di essere l’ultima stazione della via Crucis. \nDettagli\nSabato: 14-18.30 (ultimo ingresso 18)\nVisite a cura di esperti\, riservate agli iscritti FAI: ore 9-10-11-12-14-16-17\nDomenica: 9-13 e 14-18.30 (ultimo ingresso 18)\nUn gruppo ogni 15 min con massimo 15 persone \nDurata visita: 20 minuti\nLuogo accessibile\nNon è richiesta prenotazione \nClicca qui per i dettagli \nChiesa di Santa Maria degli Angeli\nPhoto credit: Gruppo FAI Pistoia e Montagna Pistoiese\nLa Chiesa di Santa Maria degli Angeli si trova tra corso Antonio Gramsci e via dei Cancellieri\, nell’area che un tempo ospitava il Monastero da Sala\, oggi sede del Liceo Statale Niccolò Forteguerri. A partire dal 1568\, il monastero avviò la costruzione di una nuova aula dedicata a Santa Maria degli Angeli e le prime celebrazioni si tennero nel 1584. \nGrazie a un cospicuo lascito testamentario\, nel 1590 fu avviato un progetto di rinnovamento che coinvolse sia gli ambienti del monastero che la chiesa stessa. Successivamente\, dato l’interesse del Gran Principe Ferdinando dei Medici\, il rinnovamento passò nelle mani di Giovan Battista Foggini. \nDettagli\nSabato: 9-13 e 14-18.30 (ultimo ingresso 18)\nAl mattino visite riservate agli iscritti FAI con esperti. Nel pomeriggio un gruppo ogni 20 min\, con massimo 20 persone.\nDomenica: 9-13 e 14-18.30 (ultimo ingresso 18)\nGruppi ogni 20 minuti\, con massimo 30 persone \nDurata visita: 45 minuti\nLuogo accessibile\nNon è richiesta prenotazione\n \nClicca qui per i dettagli \nPalazzo Banchieri-Tolomei\nPalazzo Banchieri-Tolomei\, sede del Convento delle Monache Benedettine di Santa Maria degli Angeli\, chiamate Monache da Sala\, è uno storico palazzo di Pistoia e si affaccia su piazza Giovanni Civinini\, di fronte al Teatro Manzoni\, nel centro della città. \nFino al 1786 sede del monastero di San Michele e Nicolao\, sorto a metà del XIV\, ospitò le religiose fino alle soppressioni di Pietro Leopoldo. Abbandonato dalle monache\, fu acquistato dai Banchieri che affidarono all’architetto Stefano Ciardi il rifacimento e la trasformazione in palazzo a uso privato. Fu venduto poi ai Tolomei. \nIl Palazzo Banchieri- Tolomei cela dentro di sé ancora gli spazi e l’immagine di un monastero di clausura\, seppur siano presenti richiami alla sua storia di palazzo signorile. \nDettagli\nMonastero di clausura\, proprietà ecclesiastica. Luogo solitamente chiuso.\nIn caso di particolare affluenza l’ingresso al luogo potrebbe non essere garantito.\n \nSabato: 14-18.30 (ultimo ingresso 18)\nVisite con esperti riservate agli iscritti FAI:  ore 9-10-11-12-14-15-16-17\nDomenica: 9-13 e 14-18.30 (ultimo ingresso 18)\nUn gruppo ogni 15 min\, con massimo 15 persone. È vietato fotografare i locali interni. \nDurata visita: 45 minuti\nNon è richiesta prenotazione \nClicca qui per i dettagli \nInfo\nFAI – Fondo per l’Ambiente Italiano ETS 
URL:https://www.visitpistoia.eu/evento/giornate-fai-dautunno-pistoia-2024/2024-10-13/
LOCATION:Pistoia\, Pistoia\, 51100
ATTACH;FMTTYPE=image/jpeg:https://www.visitpistoia.eu/wp-content/uploads/2023/03/Giornate-FAI-primavera-2023-1.jpg
END:VEVENT
END:VCALENDAR