BEGIN:VCALENDAR
VERSION:2.0
PRODID:-//Visit Pistoia - ECPv5.3.1//NONSGML v1.0//EN
CALSCALE:GREGORIAN
METHOD:PUBLISH
X-WR-CALNAME:Visit Pistoia
X-ORIGINAL-URL:https://www.visitpistoia.eu
X-WR-CALDESC:Eventi per Visit Pistoia
BEGIN:VTIMEZONE
TZID:Europe/Rome
BEGIN:DAYLIGHT
TZOFFSETFROM:+0100
TZOFFSETTO:+0200
TZNAME:CEST
DTSTART:20260329T010000
END:DAYLIGHT
BEGIN:STANDARD
TZOFFSETFROM:+0200
TZOFFSETTO:+0100
TZNAME:CET
DTSTART:20261025T010000
END:STANDARD
END:VTIMEZONE
BEGIN:VEVENT
DTSTART;TZID=Europe/Rome:20260127T173000
DTEND;TZID=Europe/Rome:20260127T173000
DTSTAMP:20260424T022840
CREATED:20260120T161350Z
LAST-MODIFIED:20260120T161705Z
UID:68881-1769535000-1769535000@www.visitpistoia.eu
SUMMARY:Il primo oro. La leggenda bianca di Franco Nones
DESCRIPTION:Presentazione del libro Il primo oro di Pino Dallasega\, dedicato alla prima storica vittoria olimpica di Franco Nones nello sci di fondo. L’evento si terrà martedì 27 gennaio 2026\, alle ore 17.30\, presso la Sala Convegni del NaturArt Village di Pistoia. Insieme all’autore interverrà il campione olimpico Franco Nones. \nIl volume racconta la vita e la storia di Nones\, vincitore della medaglia d’oro nella 30 km di fondo alle Olimpiadi di Grenoble 1968\, con una testimonianza di Inger Berneholm. \nEvento gratuito ad ingresso libero fino a esaurimento posti.\nClicca qui per la locandina \nInfo\nNaturArt Village
URL:https://www.visitpistoia.eu/evento/il-primo-oro-libro-di-pino-dallasega/
LOCATION:Naturart Village\, Via Toscana 101\, Chiazzano\, Pistoia\, 51100
ATTACH;FMTTYPE=image/jpeg:https://www.visitpistoia.eu/wp-content/uploads/2024/10/libro-e1727862726487.jpg
END:VEVENT
END:VCALENDAR