BEGIN:VCALENDAR
VERSION:2.0
PRODID:-//Visit Pistoia - ECPv5.3.1//NONSGML v1.0//EN
CALSCALE:GREGORIAN
METHOD:PUBLISH
X-WR-CALNAME:Visit Pistoia
X-ORIGINAL-URL:https://www.visitpistoia.eu
X-WR-CALDESC:Eventi per Visit Pistoia
BEGIN:VTIMEZONE
TZID:Europe/Rome
BEGIN:DAYLIGHT
TZOFFSETFROM:+0100
TZOFFSETTO:+0200
TZNAME:CEST
DTSTART:20250330T010000
END:DAYLIGHT
BEGIN:STANDARD
TZOFFSETFROM:+0200
TZOFFSETTO:+0100
TZNAME:CET
DTSTART:20251026T010000
END:STANDARD
END:VTIMEZONE
BEGIN:VEVENT
DTSTART;TZID=Europe/Rome:20251109T163000
DTEND;TZID=Europe/Rome:20251109T163000
DTSTAMP:20260422T074750
CREATED:20251102T150524Z
LAST-MODIFIED:20251102T150628Z
UID:66726-1762705800-1762705800@www.visitpistoia.eu
SUMMARY:Ingenio ludere. Poesia allo Spazio Zero
DESCRIPTION:Domenica 9 novembre 2025\, alle ore 16.30\, Spazio Zero – Arte Contemporanea vi invita alla presentazione della collana di poesie Ingenio ludere (Alvivo Edizioni)\, nell’ambito delle iniziative per il Premio di Poesia Bacchereto. \nIntervengono:\nLuigi Petracchi\, presidente Premio di Poesia Bacchereto;\nAlessandro Pagnini\, presidente Fondazione Francis Bacon;\nPaolo Maria Mariano\, Università di Firenze;\nAlberto Frigo\, Università di Milano;\nNatacha Fabbri\, Università di Siena;\nGloria Fossi\, storica dell’arte\, scrittrice e giornalista;\nLaura Monaldi\, docente\, saggista e archivista. \nA seguire letture di poesie ad alta voce accompagnate da Paolo Zampini (flauto) e Margherita Cavaciocchi (voce). \nIngresso libero\nClicca qui per la locandina \nInfo\nSpazio Zero – Arte Contemporanea\n+39 339 6595081
URL:https://www.visitpistoia.eu/evento/ingenio-ludere-poesia-allo-spazio-zero/
LOCATION:Spazio Zero – arte contemporanea\, Via Forra di Castelnuovo 30\, Casalguidi\, Serravalle Pistoiese\, 51034
ATTACH;FMTTYPE=image/jpeg:https://www.visitpistoia.eu/wp-content/uploads/2025/11/Spazio-Zero-arte-contemporanea.jpg
END:VEVENT
END:VCALENDAR