BEGIN:VCALENDAR
VERSION:2.0
PRODID:-//Visit Pistoia - ECPv5.3.1//NONSGML v1.0//EN
CALSCALE:GREGORIAN
METHOD:PUBLISH
X-WR-CALNAME:Visit Pistoia
X-ORIGINAL-URL:https://www.visitpistoia.eu
X-WR-CALDESC:Eventi per Visit Pistoia
BEGIN:VTIMEZONE
TZID:Europe/Rome
BEGIN:DAYLIGHT
TZOFFSETFROM:+0100
TZOFFSETTO:+0200
TZNAME:CEST
DTSTART:20250330T010000
END:DAYLIGHT
BEGIN:STANDARD
TZOFFSETFROM:+0200
TZOFFSETTO:+0100
TZNAME:CET
DTSTART:20251026T010000
END:STANDARD
END:VTIMEZONE
BEGIN:VEVENT
DTSTART;TZID=Europe/Rome:20251109T090000
DTEND;TZID=Europe/Rome:20251109T120000
DTSTAMP:20260422T075137
CREATED:20251102T143534Z
LAST-MODIFIED:20251102T143534Z
UID:66704-1762678800-1762689600@www.visitpistoia.eu
SUMMARY:La Querciola e Casa di Zela
DESCRIPTION:Una passeggiata rigenerante intorno all’Area naturale La Querciola del Comune di Quarrata per scoprire questo ambiente ricco di storia e di biodiversità. \nDurante l’escursione sarà possibile approfondire il ruolo fondamentale della zona nelle rotte migratorie dell’avifauna e conoscere la storia variegata di questo territorio\, che affonda le sue radici nell’epoca etrusca e giunge fino ai giorni nostri. \nIl percorso comprenderà anche la visita guidata alla Casa di Zela\, il museo delle arti e dei mestieri del vecchio millennio\, che custodisce una straordinaria collezione di oggetti e strumenti del passato\, testimonianza preziosa di saperi e tradizioni. \nL’iniziativa è organizzata da Auser Quarrata in collaborazione con Terre Toscane Trekking. \nClicca qui per la locandina \nProgramma\nRitrovo: domenica 9 novembre alle ore 9 presso il Parcheggio dell’area naturale della Querciola – Quarrata\nDurata: fino alle ore 12 \nDettagli\nLunghezza: 3 km\nDifficoltà: turistica\nTipo di percorso: anello\nPartecipanti: mi 5 | max 15\nPrenotazioni entro venerdì 7 novembre. \nEquipaggiamento\nZaino\, 1 litro d’acqua\, snack\, k-way\, scarpe da trekking\, abbigliamento a strati adatto alla stagione\, bastoncini da trekking (facoltativi)\, cappellino per il sole\, un paio di scarpe di ricambio da lasciare in auto \nInfo e prenotazioni\nUmberto Negrin – Auser Quarrata\nauser.quarrata@gmail.com\n+39 333 4104627 \nTerre Toscane Trekking\n+39 340 7867154 (Federico)
URL:https://www.visitpistoia.eu/evento/la-querciola-e-casa-di-zela-auser-quarrata/
LOCATION:La Querciola\, Area naturale protetta La Querciola\, Quarrata\, 51039
ATTACH;FMTTYPE=image/jpeg:https://www.visitpistoia.eu/wp-content/uploads/2023/09/foglia-natura-lumaca-pioggia-pianta.jpg
END:VEVENT
END:VCALENDAR