BEGIN:VCALENDAR
VERSION:2.0
PRODID:-//Visit Pistoia - ECPv5.3.1//NONSGML v1.0//EN
CALSCALE:GREGORIAN
METHOD:PUBLISH
X-WR-CALNAME:Visit Pistoia
X-ORIGINAL-URL:https://www.visitpistoia.eu
X-WR-CALDESC:Eventi per Visit Pistoia
BEGIN:VTIMEZONE
TZID:Europe/Rome
BEGIN:DAYLIGHT
TZOFFSETFROM:+0100
TZOFFSETTO:+0200
TZNAME:CEST
DTSTART:20260329T010000
END:DAYLIGHT
BEGIN:STANDARD
TZOFFSETFROM:+0200
TZOFFSETTO:+0100
TZNAME:CET
DTSTART:20261025T010000
END:STANDARD
END:VTIMEZONE
BEGIN:VEVENT
DTSTART;VALUE=DATE:20260127
DTEND;VALUE=DATE:20260128
DTSTAMP:20260424T022037
CREATED:20260122T082126Z
LAST-MODIFIED:20260122T082657Z
UID:68902-1769472000-1769558399@www.visitpistoia.eu
SUMMARY:La stagione della Memoria
DESCRIPTION:Il periodo tra gennaio e febbraio\, segnato dalla vicinanza di due date diverse ma accomunate dalla condanna della violenza – il Giorno della Memoria e il Giorno del Ricordo – si è affermato come una vera e propria stagione della Memoria. In queste settimane il passato viene spesso chiamato in causa come esempio e monito per il presente\, attraversando il dibattito pubblico e il mondo della scuola. \nIl programma di incontri La Stagione della memoria\, promossa dall’Istituto storico della Resistenza e dell’età contemporanea di Pistoia\, intende mettere in dialogo passato e presente\, offrendo strumenti critici per comprendere il nostro tempo e quello che ci ha preceduti. \nTutte le attività del ciclo sono realizzate con il contributo della Direzione generale biblioteche e istituti culturali del Ministero della Cultura e con il patrocinio del CUDIR del Comune di Pistoia\, con la collaborazione di Fondazione Caript\, Fondazione Valore Lavoro\, Biblioteca Forteguerriana\, Casa del Popolo di Bottegone\, Scuole per la Palestina\, Sezione Soci Coop Pistoia. \nClicca qui per la locandina \nProgramma\nMartedì 27 gennaio\nOre 17\, Biblioteca Forteguerriana – Quello che ci ha fatto Mussolini\nPresentazione del libro di Paolo Treves. In collaborazione con Fondazione Valore Lavoro. \nIntervengono:\nClaudio Treves;\nMatteo Mazzoni\, Direttore Istituto storico toscano della Resistenza e dell’età contemporanea;\nStefano Bartolini Bemporad\, Direttore Istituto storico della Resistenza e dell’età contemporanea di Pistoia. \nEvento inserito nel programma di Pistoia Capitale Italiana del Libro 2026. \nVenerdì 30 gennaio\nOre 17\, Sala Soci Coop di Pistoia – Definire l’antisemitismo. Ricerca\, cultura\, politica e disegni di legge\nSaluti introduttivi di Ilic Aiardi\, Scuole per la Palestina. In collaborazione con Scuole per la Palestina e Fondazione Valore Lavoro. \nIntervengono:\nStefano Bartolini Bemporad;\nFrancesca Biancani\, Università di Bologna;\nDaniel Calò\, Tikkun – diaspora ebraica decoloniale;\nAdalgiso Amendola\, Università di Salerno. \nGiovedì 5 febbraio\nOre 17\, Biblioteca Forteguerriana – Quale passato? Politiche della memoria\, usi politici della storia e conflitti memoriali nel tempo presente\nPresentazione di Farestoria. Saluti di Fondazione Caript. \nIntervengono:\nFrancesco Cutolo\, Direttore di Farestoria;\nCaterina Di Pasquale\, Università di Pisa;\nFilippo Focardi\, Università di Padova. \nSabato 14 febbraio\nOre 17 \, Casa del Popolo di Bottegone – Chi porterà queste parole?\nPresentazione dell’opera teatrale di Charlotte Delbo. Letture a cura di: Nara Biagiotti\, Simonetta Filippi\, Rina Giuffrida.\nEvento a cura del gruppo di studio “Paura non abbiamo”. \nIntervengono:\nCristina Galasso\, curatrice del libro;\nFederica Quirici\, traduttrice. \nVenerdì 20 febbraio\nOre 17\, Biblioteca San Giorgio – Terra italiana\nPresentazione del libro di Andrea Di Michele. \nIntervengono:\nAndrea Di Michele\, Libera Università di Bolzano;\nEmilio Bartolini\, Istituto storico della Resistenza e dell’età contemporanea di Pistoia;\nEvento inserito nel programma di Pistoia Capitale Italiana del Libro 2026. \nInfo\nIstituto storico della Resistenza e dell’età contemporanea di Pistoia \n 
URL:https://www.visitpistoia.eu/evento/la-stagione-della-memoria-2026/2026-01-27/
LOCATION:Luoghi vari\, Pistoia\, 5100
ATTACH;FMTTYPE=image/jpeg:https://www.visitpistoia.eu/wp-content/uploads/2023/08/libro-leggere-libri-donna.jpg
END:VEVENT
END:VCALENDAR