BEGIN:VCALENDAR
VERSION:2.0
PRODID:-//Visit Pistoia - ECPv5.3.1//NONSGML v1.0//EN
CALSCALE:GREGORIAN
METHOD:PUBLISH
X-WR-CALNAME:Visit Pistoia
X-ORIGINAL-URL:https://www.visitpistoia.eu
X-WR-CALDESC:Eventi per Visit Pistoia
BEGIN:VTIMEZONE
TZID:Europe/Rome
BEGIN:DAYLIGHT
TZOFFSETFROM:+0100
TZOFFSETTO:+0200
TZNAME:CEST
DTSTART:20260329T010000
END:DAYLIGHT
BEGIN:STANDARD
TZOFFSETFROM:+0200
TZOFFSETTO:+0100
TZNAME:CET
DTSTART:20261025T010000
END:STANDARD
END:VTIMEZONE
BEGIN:VEVENT
DTSTART;TZID=Europe/Rome:20260430T210000
DTEND;TZID=Europe/Rome:20260430T210000
DTSTAMP:20260422T194821
CREATED:20260422T134409Z
LAST-MODIFIED:20260422T134506Z
UID:70737-1777582800-1777582800@www.visitpistoia.eu
SUMMARY:L’amore supremo di John Coltrane
DESCRIPTION:Giovedì 30 aprile 2026\, alle ore 21\, all’interno del ciclo espositivo Liber Liber\, presso Spazio Zero – arte contemporanea a Casalguidi\, un incontro dedicato a John Coltrane: la storia del suo capolavoro\, del suo percorso artistico e umano\, e del profondo legame con Alice\, tra musica e spiritualità. \nIngresso libero\nClicca qui per la locandina \nInfo\nSpazio zero – arte contemporanea\n+39 339 6595081 \nPhoto credit: Hugo van Gelderen (Anefo)\, CC0\, via Wikimedia Commons
URL:https://www.visitpistoia.eu/evento/lamore-supremo-di-john-coltrane/
LOCATION:Spazio Zero – arte contemporanea\, Via Forra di Castelnuovo 30\, Casalguidi\, Serravalle Pistoiese\, 51034
ATTACH;FMTTYPE=image/jpeg:https://www.visitpistoia.eu/wp-content/uploads/2026/04/John_Coltrane_in_1963.jpg
END:VEVENT
END:VCALENDAR