BEGIN:VCALENDAR
VERSION:2.0
PRODID:-//Visit Pistoia - ECPv5.3.1//NONSGML v1.0//EN
CALSCALE:GREGORIAN
METHOD:PUBLISH
X-WR-CALNAME:Visit Pistoia
X-ORIGINAL-URL:https://www.visitpistoia.eu
X-WR-CALDESC:Eventi per Visit Pistoia
BEGIN:VTIMEZONE
TZID:Europe/Rome
BEGIN:DAYLIGHT
TZOFFSETFROM:+0100
TZOFFSETTO:+0200
TZNAME:CEST
DTSTART:20250330T010000
END:DAYLIGHT
BEGIN:STANDARD
TZOFFSETFROM:+0200
TZOFFSETTO:+0100
TZNAME:CET
DTSTART:20251026T010000
END:STANDARD
END:VTIMEZONE
BEGIN:VEVENT
DTSTART;TZID=Europe/Rome:20251211T170000
DTEND;TZID=Europe/Rome:20251211T170000
DTSTAMP:20260419T144109
CREATED:20251104T135449Z
LAST-MODIFIED:20251124T091702Z
UID:66845-1765472400-1765472400@www.visitpistoia.eu
SUMMARY:Le nonnare di Sura Bizzarri
DESCRIPTION:Giovedì 11 dicembre 2025\, alle ore 17\, presso la Sala Manzini\, presentazione del libro Le nonnare di Sura Bizzarri\, con illustrazioni di Michela Ferrucci (Milluminodimmenso\, 2024). Interviene Stefano Fiori alla presenza dell’autrice. \nUna piccola fiaba atipica perché\, invece di essere scritta per i bambini\, è dedicata agli adulti — in particolare agli anziani — e perché rovescia la situazione consueta delle gattare\, le signore che portano cibo e conforto ai gatti randagi. \nIn questo caso\, infatti\, è una colonia di mici abbandonati in un giardinetto a prendersi cura di un gruppo di anziani non del tutto abbandonati\, ma lasciati a se stessi in un paesino irto di scale\, adagiato su un poggio “scalzo”. \nIl ricavato della vendita del libro sarà devoluto a favore di Diockel\, un bambino senegalese di dodici anni in Italia per sottoporsi a una serie di interventi chirurgici presso l’Ospedale Meyer di Firenze. \nEvento all’interno del programma Pistoia Città del Natale 2025.\nCosa fare a Pistoia a Natale? Clicca qui per scoprirlo. \nInfo\nBiblioteca San Giorgio
URL:https://www.visitpistoia.eu/evento/le-nonnare-di-sura-bizzarri-presentazione/
LOCATION:Biblioteca San Giorgio\, Via Sandro Pertini\, Pistoia\, 51100
ATTACH;FMTTYPE=image/jpeg:https://www.visitpistoia.eu/wp-content/uploads/2023/09/libro.jpg
END:VEVENT
END:VCALENDAR