BEGIN:VCALENDAR
VERSION:2.0
PRODID:-//Visit Pistoia - ECPv5.3.1//NONSGML v1.0//EN
CALSCALE:GREGORIAN
METHOD:PUBLISH
X-WR-CALNAME:Visit Pistoia
X-ORIGINAL-URL:https://www.visitpistoia.eu
X-WR-CALDESC:Eventi per Visit Pistoia
BEGIN:VTIMEZONE
TZID:Europe/Rome
BEGIN:DAYLIGHT
TZOFFSETFROM:+0100
TZOFFSETTO:+0200
TZNAME:CEST
DTSTART:20260329T010000
END:DAYLIGHT
BEGIN:STANDARD
TZOFFSETFROM:+0200
TZOFFSETTO:+0100
TZNAME:CET
DTSTART:20261025T010000
END:STANDARD
END:VTIMEZONE
BEGIN:VEVENT
DTSTART;TZID=Europe/Rome:20260121T210000
DTEND;TZID=Europe/Rome:20260121T210000
DTSTAMP:20260424T175654
CREATED:20260119T081205Z
LAST-MODIFIED:20260119T081205Z
UID:68806-1769029200-1769029200@www.visitpistoia.eu
SUMMARY:Lost Name in concerto
DESCRIPTION:Mercoledì 21 gennaio 2026\, alle ore 21\, al Polo Puccini Gatteschi\, appuntamento con i Lost Name per un concerto di classici del rock in versione acustica. \nIl gruppo reinterpreta i più grandi successi dei gruppi e degli artisti che li hanno ispirati\, affiancando alle cover anche creazioni musicali originali. \nLa scaletta proposta sarà un vero e proprio viaggio nella storia del rock e del pop. Un’esperienza acustica unica\, nata dalla sfida di trasformare brani “monumentali” in arrangiamenti per voce\, chitarra\, basso e batteria. Le canzoni assumono così una veste più intima\, senza però perdere neanche un briciolo della loro potenza originaria. \nIl gruppo è una band composta da quattro giovani musicisti amanti del rock: \nGiulia Brini Romagnoli – voce\nFrancesco Palombi – chitarra\nFilippo Bogi – basso\nCristiano Sensi – batteria \nInfo\nPolo Culturale Puccini Gatteschi
URL:https://www.visitpistoia.eu/evento/lost-name-in-concerto/
LOCATION:Polo Culturale Puccini Gatteschi\, Vicolo del Malconsiglio 7\, Pistoia\, 51100
ATTACH;FMTTYPE=image/jpeg:https://www.visitpistoia.eu/wp-content/uploads/2022/05/musician-2943109_1280.jpg
END:VEVENT
END:VCALENDAR