BEGIN:VCALENDAR
VERSION:2.0
PRODID:-//Visit Pistoia - ECPv5.3.1//NONSGML v1.0//EN
CALSCALE:GREGORIAN
METHOD:PUBLISH
X-WR-CALNAME:Visit Pistoia
X-ORIGINAL-URL:https://www.visitpistoia.eu
X-WR-CALDESC:Eventi per Visit Pistoia
BEGIN:VTIMEZONE
TZID:Europe/Rome
BEGIN:DAYLIGHT
TZOFFSETFROM:+0100
TZOFFSETTO:+0200
TZNAME:CEST
DTSTART:20260329T010000
END:DAYLIGHT
BEGIN:STANDARD
TZOFFSETFROM:+0200
TZOFFSETTO:+0100
TZNAME:CET
DTSTART:20261025T010000
END:STANDARD
END:VTIMEZONE
BEGIN:VEVENT
DTSTART;TZID=Europe/Rome:20260425T090000
DTEND;TZID=Europe/Rome:20260425T090000
DTSTAMP:20260424T005810
CREATED:20260423T083226Z
LAST-MODIFIED:20260423T083241Z
UID:70766-1777107600-1777107600@www.visitpistoia.eu
SUMMARY:Maratonina del Partigiano
DESCRIPTION:Sabato 25 aprile 2026\, alle ore 9\, si rinnova l’appuntamento con la Maratonina del Partigiano\, che quest’anno taglia la 50° edizione. \nLa 50ª Maratonina del Partigiano – 1° Memorial Bonacchi Sergio e Vannini Graziano si svolgerà a Bonelle\, con percorsi competitivi e non competitivi immersi nel territorio pistoiese. \nSono previste una gara competitiva di circa 13 km\, una ludico-motoria/fitwalking sui percorsi da 6 e 13 km\, oltre a gare dedicate alle categorie giovanili. \nProgramma\nRitrovo: ore 7.30 presso Circolo A.R.C.I. Bonelle\nPartenza: ore 9\nCategorie giovanili: ore 9.5\nOre 13: pranzo popolare su prenotazione (entro 23/04) \nIscrizioni\nPre-iscrizioni via email: maratoninadelpartigianobonelle@gmail.com\nentro giovedì 23/04\, con pagamento al ritiro. \n10 € iscrizione standard\n8 € tesserati UISP\n12 € iscrizione il giorno della gara\n10 € tesserati UISP il giorno della gara\n6 € ludico motoria con premio\n3 € ludico motoria senza premio\ncategorie giovanili gratuite \nInfo\nSilvano Fedi aps\nmaratoninadelpartigianobonelle@gmail.com\n+39 366 6400614 (Alfio)\n+39 339 6347737 (Emanuele)
URL:https://www.visitpistoia.eu/evento/maratonina-del-partigiano-2026/
LOCATION:Circolo ARCI Bonelle\, Via Bonellina 235\, Pistoia\, 51100
ATTACH;FMTTYPE=image/jpeg:https://www.visitpistoia.eu/wp-content/uploads/2024/12/run-corsa-marathon-sport.jpg
END:VEVENT
END:VCALENDAR