BEGIN:VCALENDAR
VERSION:2.0
PRODID:-//Visit Pistoia - ECPv5.3.1//NONSGML v1.0//EN
CALSCALE:GREGORIAN
METHOD:PUBLISH
X-WR-CALNAME:Visit Pistoia
X-ORIGINAL-URL:https://www.visitpistoia.eu
X-WR-CALDESC:Eventi per Visit Pistoia
BEGIN:VTIMEZONE
TZID:Europe/Rome
BEGIN:DAYLIGHT
TZOFFSETFROM:+0100
TZOFFSETTO:+0200
TZNAME:CEST
DTSTART:20250330T010000
END:DAYLIGHT
BEGIN:STANDARD
TZOFFSETFROM:+0200
TZOFFSETTO:+0100
TZNAME:CET
DTSTART:20251026T010000
END:STANDARD
BEGIN:DAYLIGHT
TZOFFSETFROM:+0100
TZOFFSETTO:+0200
TZNAME:CEST
DTSTART:20260329T010000
END:DAYLIGHT
BEGIN:STANDARD
TZOFFSETFROM:+0200
TZOFFSETTO:+0100
TZNAME:CET
DTSTART:20261025T010000
END:STANDARD
END:VTIMEZONE
BEGIN:VEVENT
DTSTART;VALUE=DATE:20251224
DTEND;VALUE=DATE:20260928
DTSTAMP:20260424T102621
CREATED:20251201T104948Z
LAST-MODIFIED:20260331T144159Z
UID:67764-1766534400-1790553599@www.visitpistoia.eu
SUMMARY:Marino Marini. La pittura
DESCRIPTION:Pistoia rende omaggio a Marino Marini\, tra i più celebri protagonisti del Novecento pistoiese\, con una nuova iniziativa che coniuga valorizzazione culturale e riscoperta del patrimonio cittadino. \nFino a domenica 27 settembre 2026\, nelle sale del secondo piano del Museo del Novecento e del Contemporaneo di Palazzo Fabroni\, l’esposizione temporanea Marino Marini. La pittura presenta un prezioso nucleo di opere provenienti dalle collezioni civiche\, da tempo non visibili. L’allestimento invita a riscoprire un aspetto meno noto dell’artista\, quello legato alla ricerca pittorica e all’uso del colore. \nIl progetto nasce nell’ambito di Pistoia Città di Marino\, un percorso condiviso con la Fondazione Marino Marini\, la Direzione regionale Musei nazionali Toscana e la Fondazione Caript\, con l’obiettivo di valorizzare sempre di più il legame tra l’artista e la sua città\, insieme ai luoghi che ne custodiscono la memoria\, come il complesso dell’ex chiesa del Tau. \nL’iniziativa è curata dalla Fondazione Marino Marini di Pistoia\, in collaborazione con i Musei Civici e con il contributo della Fondazione Caript. \nOrari\nFino a martedì 2 giugno\ndal martedì al venerdì\, dalle ore 10 alle 14\nsabato\, domenica\, festivi e lunedì 1° giugno\, dalle 10 alle 18\nlunedì chiuso \nDa mercoledì 3 giugno a domenica 27 settembre\ndal martedì al venerdì\, dalle 15 alle 19\nsabato\, domenica e festivi\, dalle 11 alle 19\nlunedì chiuso \nInfo\nFondazione Marino Marini \nMusei Civici Pistoia
URL:https://www.visitpistoia.eu/evento/marino-marini-la-pittura-museo-del-novecento-e-del-contemporaneo-di-palazzo-fabroni/
LOCATION:Museo del Novecento e del Contemporaneo di Palazzo Fabroni\, Via Sant'Andrea 18\, Pistoia\, 51100\, Italia
ATTACH;FMTTYPE=image/jpeg:https://www.visitpistoia.eu/wp-content/uploads/2025/12/Marino-Marini-La-pittura_1.jpg
END:VEVENT
END:VCALENDAR