BEGIN:VCALENDAR
VERSION:2.0
PRODID:-//Visit Pistoia - ECPv5.3.1//NONSGML v1.0//EN
CALSCALE:GREGORIAN
METHOD:PUBLISH
X-WR-CALNAME:Visit Pistoia
X-ORIGINAL-URL:https://www.visitpistoia.eu
X-WR-CALDESC:Eventi per Visit Pistoia
BEGIN:VTIMEZONE
TZID:Europe/Rome
BEGIN:DAYLIGHT
TZOFFSETFROM:+0100
TZOFFSETTO:+0200
TZNAME:CEST
DTSTART:20260329T010000
END:DAYLIGHT
BEGIN:STANDARD
TZOFFSETFROM:+0200
TZOFFSETTO:+0100
TZNAME:CET
DTSTART:20261025T010000
END:STANDARD
END:VTIMEZONE
BEGIN:VEVENT
DTSTART;VALUE=DATE:20260424
DTEND;VALUE=DATE:20260425
DTSTAMP:20260424T005647
CREATED:20260305T172144Z
LAST-MODIFIED:20260305T172144Z
UID:69912-1776988800-1777075199@www.visitpistoia.eu
SUMMARY:Montale a Teatro
DESCRIPTION:Da venerdì 27 marzo a mercoledì 27 maggio 2026\, appuntamento con la prima edizione di Montale a Teatro\, un’iniziativa nata dalla sinergia tra amministrazione comunale e Fondazione Teatri di Pistoia. \nLa rassegna aprirà il 27 marzo alle 20.45 a Villa Smilea con il progetto di Giuseppe Cederna Non perché tutti siano artisti\, ma perché nessuno sia schiavo\, dedicato alla figura e all’opera di Gianni Rodari (1920–1980). Il reading ripercorre il pensiero e l’eredità dello scrittore che ha rivoluzionato la letteratura per l’infanzia\, unendo fantasia\, innovazione linguistica e impegno civile. Cederna sarà inoltre protagonista di una mattinata per bambini e ragazzi il 28 marzo\, sempre a Villa Smilea\, nell’ambito di Montale Paese della Fiaba. \nIl secondo appuntamento sarà il 24 aprile alle 20.45 con il reading di Alessandro Benvenuti\, Letture scapigliate\, che propone brani da Bottegai di Ugo Chiti e da Gino detto Smith & la panchina sensibile dello stesso Benvenuti. \nLa rassegna si concluderà il 27 maggio alle 18.30 in Piazza Matteotti con Sonata per tubi\, spettacolo di circo contemporaneo della Compagnia Nando e Maila. In scena Ferdinando D’Andria\, Maila Sparapani e Marilù D’Andria\, che uniscono musica\, teatro e arti circensi trasformando oggetti e attrezzi da giocoleria in strumenti musicali\, tra suggestioni che spaziano dalla musica classica al rock. \nClicca qui per la locandina \nProgramma\nVenerdì 27 marzo\nOre 20.45\, Villa Smilea – Non perché tutti siano artisti ma perché nessuno sia schiavo\nUn progetto su Gianni Rodari di Giuseppe Cederna \nVenerdì 24 aprile\nOre 20.45\, Villa Smilea – Letture scapigliate\nCon Alessandro Benvenuti\, brani tratti da Bottegai di Ugo Chiti e da Gino detto Smith & la Panchina Sensibile. \nMercoledì 27 maggio\nOre 18.30\, Piazza Matteotti – Sonata per tubi\nArie di musica classica per strumenti inconsueti. Compagnia Nando e Maila ETS\, con il sostegno di Ministero della Cultura\, Regione Emilia Romagna. \nDettagli\nL’ingresso agli eventi è libero fino a esaurimento posti.\nPer gli appuntamenti ospitati a Villa La Smilea la prenotazione è obbligatoria e può essere effettuata rivolgendosi all’Ufficio Cultura del Comune di Montale.\nLe prenotazioni apriranno: il 6 marzo per la serata di Giuseppe Cederna | il 1 aprile per la serata di Alessandro Benvenuti \nInfo\nTeatri di Pistoia\n+39 0573 952263 (Comune di Montale\, ore 8.30–15.30)\n+39 0573 952238 (Comune di Montale\, 15.30–19)
URL:https://www.visitpistoia.eu/evento/montale-a-teatro-2026/2026-04-24/
LOCATION:Montale\, Montale\, 51037
ATTACH;FMTTYPE=image/jpeg:https://www.visitpistoia.eu/wp-content/uploads/2026/03/Benvenuti-Alessandro-foto-di-Bossanostra-s-1-e1772731298974.jpg
END:VEVENT
END:VCALENDAR