BEGIN:VCALENDAR
VERSION:2.0
PRODID:-//Visit Pistoia - ECPv5.3.1//NONSGML v1.0//EN
CALSCALE:GREGORIAN
METHOD:PUBLISH
X-WR-CALNAME:Visit Pistoia
X-ORIGINAL-URL:https://www.visitpistoia.eu
X-WR-CALDESC:Eventi per Visit Pistoia
BEGIN:VTIMEZONE
TZID:Europe/Rome
BEGIN:DAYLIGHT
TZOFFSETFROM:+0100
TZOFFSETTO:+0200
TZNAME:CEST
DTSTART:20250330T010000
END:DAYLIGHT
BEGIN:STANDARD
TZOFFSETFROM:+0200
TZOFFSETTO:+0100
TZNAME:CET
DTSTART:20251026T010000
END:STANDARD
END:VTIMEZONE
BEGIN:VEVENT
DTSTART;VALUE=DATE:20251224
DTEND;VALUE=DATE:20251225
DTSTAMP:20260426T003500
CREATED:20251203T103938Z
LAST-MODIFIED:20251203T103938Z
UID:67869-1766534400-1766620799@www.visitpistoia.eu
SUMMARY:Natale a Pian degli Ontani
DESCRIPTION:Pian degli Ontani\, nel cuore della Montagna Pistoiese\, torna a vivere la magia delle feste di Natale con un ricco programma che celebra le tradizioni locali. \nMercoledì 24 dicembre 2025\, alle ore 21\, l’atmosfera si accende con la Discesa della Stella Cometa\, seguita dalla Santa Messa. Durante la serata sarà possibile scoprire e gustare i prodotti tipici locali grazie agli stand allestiti per l’occasione. \nLunedì 5 gennaio 2026\, il paese si anima nuovamente con Il Canto della Befana: a partire dal pomeriggio\, i cantori porteranno la loro musica nelle borgate e negli esercizi pubblici\, creando momenti di gioia e partecipazione. La serata culmina alle 21.30 con il secondo spettacolo della Discesa della Stella Cometa in Piazza dell’Acerone\, accompagnato da degustazioni di prodotti tipici locali\, fuochi d’artificio e il tradizionale canto della Befana. \nInfine\, martedì 6 gennaio\, in occasione dell’Epifania\, dalle 15 alle 18\, bambini e famiglie potranno incontrare Babbo Natale e la Befana in Piazza dell’Acerone. Sarà un pomeriggio speciale\, tra regali per i più piccoli e l’ultima esibizione dei cantori\, per concludere in bellezza le feste natalizie a Pian degli Ontani. \nClicca qui per scoprire le iniziative natalizie della Montagna Pistoiese. \nInfo\nPro Loco Pian Degli Ontani\nprolocovalsestaione@gmail.com \nPhoto credit: Pro Loco Pian degli Ontani Facebook
URL:https://www.visitpistoia.eu/evento/natale-a-pian-degli-ontani-2025/2025-12-24/
LOCATION:Pian degli Ontani\, Abetone Cutigliano\, 51024
ATTACH;FMTTYPE=image/jpeg:https://www.visitpistoia.eu/wp-content/uploads/2025/12/Pro-Loco-Pian-degli-Ontani-Facebook.jpg
END:VEVENT
END:VCALENDAR