BEGIN:VCALENDAR
VERSION:2.0
PRODID:-//Visit Pistoia - ECPv5.3.1//NONSGML v1.0//EN
CALSCALE:GREGORIAN
METHOD:PUBLISH
X-WR-CALNAME:Visit Pistoia
X-ORIGINAL-URL:https://www.visitpistoia.eu
X-WR-CALDESC:Eventi per Visit Pistoia
BEGIN:VTIMEZONE
TZID:Europe/Rome
BEGIN:DAYLIGHT
TZOFFSETFROM:+0100
TZOFFSETTO:+0200
TZNAME:CEST
DTSTART:20260329T010000
END:DAYLIGHT
BEGIN:STANDARD
TZOFFSETFROM:+0200
TZOFFSETTO:+0100
TZNAME:CET
DTSTART:20261025T010000
END:STANDARD
END:VTIMEZONE
BEGIN:VEVENT
DTSTART;TZID=Europe/Rome:20260516T210000
DTEND;TZID=Europe/Rome:20260516T233000
DTSTAMP:20260420T190707
CREATED:20260420T132430Z
LAST-MODIFIED:20260420T132832Z
UID:70698-1778965200-1778974200@www.visitpistoia.eu
SUMMARY:Notte dei musei
DESCRIPTION:Sabato 16 maggio 2026 torna la Notte dei Musei\, con i Musei Civici di Pistoia aperti eccezionalmente dalle 21 alle 23.30 e ingresso libero e gratuito. \nSarà l’occasione per scoprire sotto una luce diversa le collezioni del Museo Civico d’arte antica\, del Museo dello Spedale del Ceppo e del Museo del Novecento e del Contemporaneo di Palazzo Fabroni. \nUn invito a vivere i musei in un’atmosfera inedita\, tra arte\, storia e suggestioni serali.\nL’iniziativa rientra nel programma Primavera al museo. \nInfo\nMusei Civici di Pistoia
URL:https://www.visitpistoia.eu/evento/notte-dei-musei-pistoia-2026/
LOCATION:Musei Civici di Pistoia\, Pistoia\, 51100
ATTACH;FMTTYPE=image/jpeg:https://www.visitpistoia.eu/wp-content/uploads/2022/07/Musei-Civici.jpg
END:VEVENT
END:VCALENDAR