BEGIN:VCALENDAR
VERSION:2.0
PRODID:-//Visit Pistoia - ECPv5.3.1//NONSGML v1.0//EN
CALSCALE:GREGORIAN
METHOD:PUBLISH
X-WR-CALNAME:Visit Pistoia
X-ORIGINAL-URL:https://www.visitpistoia.eu
X-WR-CALDESC:Eventi per Visit Pistoia
BEGIN:VTIMEZONE
TZID:Europe/Rome
BEGIN:DAYLIGHT
TZOFFSETFROM:+0100
TZOFFSETTO:+0200
TZNAME:CEST
DTSTART:20260329T010000
END:DAYLIGHT
BEGIN:STANDARD
TZOFFSETFROM:+0200
TZOFFSETTO:+0100
TZNAME:CET
DTSTART:20261025T010000
END:STANDARD
END:VTIMEZONE
BEGIN:VEVENT
DTSTART;TZID=Europe/Rome:20260313T213000
DTEND;TZID=Europe/Rome:20260313T213000
DTSTAMP:20260419T173931
CREATED:20260303T112705Z
LAST-MODIFIED:20260303T112705Z
UID:69860-1773437400-1773437400@www.visitpistoia.eu
SUMMARY:Notte: Piero Perelli in concerto
DESCRIPTION:Presso la Fondazione Luigi Tronci\, Piero Perelli\, batterista e percussionista attivo tra improvvisazione e ricerca sonora\, presenta il nuovo album Notte con un concerto. L’appuntamento è venerdì 13 marzo 2026 alle 21.30. \nNotte è un progetto che esplora il rapporto tra suono e spazio\, intrecciando riverberi\, sperimentazione e sound design in un’esperienza musicale intensa e riflessiva. La batteria è il cuore della performance\, protagonista di un viaggio sonoro che armonizza contrasti come oscurità e luce\, rabbia e amore\, in un dialogo continuo tra artista\, luogo e pubblico. \nOriginario di Lucca e classe 1988\, Perelli sviluppa uno stile profondamente legato alla natura e alla musica sperimentale. Dal 2012 avvia un’attività internazionale collaborando con artisti come Dana Fuchs\, The Swell Season (Glen Hansard e Markéta Irglová) e Vinicio Capossela\, oltre a registrazioni in studio con musicisti come Eddie Vedder e Andrea Bocelli. In ambito cinematografico ha partecipato alla colonna sonora di Flag Day di Sean Penn ed è autore del sound del documentario Sergio Leone – L’italiano che inventò l’America. Nel 2024 pubblica il suo primo album solista\, Notte. \nL’ingresso è ad offerta consapevole e il contributo raccolto sarà destinato al sostegno della Fondazione. \nInfo\nFondazione Tronci \nPhoto credit: Piero Perelli Facebook
URL:https://www.visitpistoia.eu/evento/notte-piero-perelli-in-concerto/
LOCATION:Fondazione Luigi Tronci\, Corso A. Gramsci\, 7\, Pistoia\, 51100\, Italia
ATTACH;FMTTYPE=image/jpeg:https://www.visitpistoia.eu/wp-content/uploads/2026/03/Piero-Perelli-Facebook.jpg
END:VEVENT
END:VCALENDAR