BEGIN:VCALENDAR
VERSION:2.0
PRODID:-//Visit Pistoia - ECPv5.3.1//NONSGML v1.0//EN
CALSCALE:GREGORIAN
METHOD:PUBLISH
X-WR-CALNAME:Visit Pistoia
X-ORIGINAL-URL:https://www.visitpistoia.eu
X-WR-CALDESC:Eventi per Visit Pistoia
BEGIN:VTIMEZONE
TZID:Europe/Rome
BEGIN:DAYLIGHT
TZOFFSETFROM:+0100
TZOFFSETTO:+0200
TZNAME:CEST
DTSTART:20260329T010000
END:DAYLIGHT
BEGIN:STANDARD
TZOFFSETFROM:+0200
TZOFFSETTO:+0100
TZNAME:CET
DTSTART:20261025T010000
END:STANDARD
END:VTIMEZONE
BEGIN:VEVENT
DTSTART;VALUE=DATE:20260314
DTEND;VALUE=DATE:20260315
DTSTAMP:20260425T140018
CREATED:20260123T095809Z
LAST-MODIFIED:20260123T101254Z
UID:68981-1773446400-1773532799@www.visitpistoia.eu
SUMMARY:Open Quarrata: trekking tematici
DESCRIPTION:Un calendario di trekking tematici alla scoperta del territorio\, a cura di Open Quarrata\, per valorizzare ciò che ci circonda\, dalla flora alla geologia. \nTutte le attività sono gratuite e aperte a ogni età.\nClicca qui per la locandina \nProgramma\nSabato 24 gennaio\nOre 16–18\, Laboratorio di geologia\nAnalisi geologica del territorio ed esperimenti sull’erosione (indoor) \nSabato 14 febbraio\nOre 10–13\, Seguire le orme\nImpariamo a riconoscere le tracce degli animali selvatici\nCon pranzo al sacco \nSabato 14 marzo\nOre 14.30\, Cristalli del Montalbano\nEscursione sul territorio alla scoperta dei cristalli di quarzo \nSabato 18 aprile\nOre 15\, Piante selvatiche\nConoscere alcune specie selvatiche del territorio e imparare a usarle \nSabato 16 maggio\nOre 10–14\, Camminata senza (un) senso\nPercorso esperienziale senza l’uso della vista\, per sperimentare la fiducia reciproca attraverso il gioco\nCon pranzo al sacco \nInfo\nOpen Quarrata\n+39 3409974903
URL:https://www.visitpistoia.eu/evento/open-quarrata-trekking-tematici-2026/2026-03-14/
LOCATION:Luoghi vari\, Pistoia\, 5100
ATTACH;FMTTYPE=image/jpeg:https://www.visitpistoia.eu/wp-content/uploads/2022/03/Trekking-scaled.jpg
END:VEVENT
END:VCALENDAR