BEGIN:VCALENDAR
VERSION:2.0
PRODID:-//Visit Pistoia - ECPv5.3.1//NONSGML v1.0//EN
CALSCALE:GREGORIAN
METHOD:PUBLISH
X-WR-CALNAME:Visit Pistoia
X-ORIGINAL-URL:https://www.visitpistoia.eu
X-WR-CALDESC:Eventi per Visit Pistoia
BEGIN:VTIMEZONE
TZID:Europe/Rome
BEGIN:DAYLIGHT
TZOFFSETFROM:+0100
TZOFFSETTO:+0200
TZNAME:CEST
DTSTART:20260329T010000
END:DAYLIGHT
BEGIN:STANDARD
TZOFFSETFROM:+0200
TZOFFSETTO:+0100
TZNAME:CET
DTSTART:20261025T010000
END:STANDARD
END:VTIMEZONE
BEGIN:VEVENT
DTSTART;VALUE=DATE:20260310
DTEND;VALUE=DATE:20260405
DTSTAMP:20260424T023605
CREATED:20260309T135712Z
LAST-MODIFIED:20260309T135712Z
UID:69956-1773100800-1775347199@www.visitpistoia.eu
SUMMARY:Passaggi di Marco Saielli
DESCRIPTION:Da martedì 10 marzo a sabato 4 aprile 2026 le vetrine e gli spazi espositivi interni della Biblioteca San Giorgio di Pistoia ospitano la mostra fotografica Passaggi di Marco Saielli\, un percorso tra ritratti in bianco e nero e sperimentazioni analogiche con sovraimpressioni. \nL’inaugurazione è in programma sabato 14 marzo alle ore 17\, alla presenza dell’artista e con l’intervento della scrittrice Antonella Pederiva. \nLa mostra presenta due sezioni che esplorano le diverse possibilità espressive della fotografia analogica. Negli spazi interni è esposta L’orto di Giuliano (2004)\, serie di ritratti in bianco e nero dedicati al padre dell’autore e realizzati con fotocamere medio formato e ottiche d’epoca\, in un lavoro attento e artigianale che restituisce al quotidiano una dimensione intima e senza tempo. \nLe vetrine della biblioteca ospitano invece Les rendez-vous de Paris (2024)\, progetto realizzato in occasione del centenario del Movimento Surrealista. Attraverso l’uso del rullino 35 mm e della sovraimpressione di più immagini\, Saielli costruisce composizioni oniriche in cui la fotografia diventa uno spazio di immaginazione\, dove realtà e visione si fondono. \nMarco Saielli inizia il suo percorso fotografico nel 2000 come autodidatta\, sviluppando una ricerca che alterna il rigore del bianco e nero alla sperimentazione su pellicola. Dal 2015 si avvicina al surrealismo fotografico con il progetto Affabulazioni. Tra le mostre più recenti si segnala Se ti tagliassero a pezzetti\, antologia di ritratti dedicata a vent’anni di musica e incontri sottopalco\, presentata nel 2023 a Pistoia e riallestita nel 2025 a Prato. \nOrari\nDal martedì al sabato 9-19\nLunedì 14-19\nDomenica chiuso \nInfo\nBiblioteca San Giorgio
URL:https://www.visitpistoia.eu/evento/passaggi-di-marco-saielli/
LOCATION:Biblioteca San Giorgio\, Via Sandro Pertini\, Pistoia\, 51100
ATTACH;FMTTYPE=image/jpeg:https://www.visitpistoia.eu/wp-content/uploads/2026/03/ParigiSurr-85152-85152-2.jpg
END:VEVENT
END:VCALENDAR