BEGIN:VCALENDAR
VERSION:2.0
PRODID:-//Visit Pistoia - ECPv5.3.1//NONSGML v1.0//EN
CALSCALE:GREGORIAN
METHOD:PUBLISH
X-WR-CALNAME:Visit Pistoia
X-ORIGINAL-URL:https://www.visitpistoia.eu
X-WR-CALDESC:Eventi per Visit Pistoia
BEGIN:VTIMEZONE
TZID:Europe/Rome
BEGIN:DAYLIGHT
TZOFFSETFROM:+0100
TZOFFSETTO:+0200
TZNAME:CEST
DTSTART:20260329T010000
END:DAYLIGHT
BEGIN:STANDARD
TZOFFSETFROM:+0200
TZOFFSETTO:+0100
TZNAME:CET
DTSTART:20261025T010000
END:STANDARD
END:VTIMEZONE
BEGIN:VEVENT
DTSTART;TZID=Europe/Rome:20260704T210000
DTEND;TZID=Europe/Rome:20260704T210000
DTSTAMP:20260424T033746
CREATED:20260122T103351Z
LAST-MODIFIED:20260331T142157Z
UID:68918-1783198800-1783198800@www.visitpistoia.eu
SUMMARY:Pistoia Blues Festival 2026 - Fantastic Negrito ed Eric Steckel
DESCRIPTION:Nel calendario della 45ª edizione del Pistoia Blues Festival 2026\, una serata dedicata al grande blues internazionale. \nSabato 4 luglio 2026\, in Piazza del Duomo\, in una delle due sole date estive previste in Italia\, Fantastic Negrito si esibirà per la prima volta in assoluto sul palco pistoiese con la sua band. \nFantastic Negrito\, pseudonimo del chitarrista statunitense Xavier Amin Dphrepaulezz\, è una delle voci più autentiche e potenti del panorama musicale contemporaneo. Dopo un percorso artistico segnato da cadute e rinascite\, ha sviluppato uno stile inconfondibile che fonde blues\, rock\, funk\, soul e radici afroamericane. Nel corso della sua carriera ha conquistato tre Grammy consecutivi nella categoria Best Contemporary Blues Album con The Last Days of Oakland (2016)\, Please Don’t Be Dead (2018) e Have You Lost Your Mind Yet? (2020). \nIl suo ultimo lavoro\, Son of a Broken Man (ottobre 2024\, Storefront Records)\, rappresenta un capitolo profondamente autobiografico: un viaggio nella relazione padre-figlio\, nel conflitto interiore e nella ricerca dell’identità. Il disco è stato anticipato dal singolo Undefeated Eyes\, realizzato con la partecipazione di Sting\, e alterna momenti di intensa vulnerabilità a esplosioni ritmiche\, confermando la forza narrativa e sonora che contraddistingue l’artista. Virgin Radio è radio ufficiale delle date italiane di Fantastic Negrito. \nEric Steckel. Photo credit: Jaap Hubert\nNella stessa serata salirà sul palco anche Eric Steckel\, considerato una delle stelle più brillanti del blues contemporaneo. Nato nel 1990\, Steckel è cantante\, chitarrista\, compositore e produttore discografico statunitense. \nHa pubblicato 12 album e si è esibito in tournée in tutto il mondo\, condividendo il palco con artisti come Steve Vai\, Gregg Allman\, Johnny Winter\, John Mayall\, Ray Charles\, Larry Carlton\, Robben Ford e molti altri. Nel marzo 2024 è stato votato numero 55 nella classifica dei “100 più grandi chitarristi blues di tutti i tempi” dalla rivista Total Guitar\, mentre nel 2021 Guitar Player lo ha inserito tra le “10 future stelle del blues”. \nClicca qui per scoprire il programma completo della 45° edizione del Pistoia Blues Festival. \nDettagli\nAcquista i biglietti su Ticketone\, Ticketmaster\, Vivaticket e nelle prevendite abituali sul territorio. \nInfo\nPistoia Blues
URL:https://www.visitpistoia.eu/evento/pistoia-blues-festival-2026-fantastic-negrito-ed-eric-steckel/
LOCATION:Piazza del Duomo\, Piazza del Duomo\, Pistoia\, 51100
ATTACH;FMTTYPE=image/jpeg:https://www.visitpistoia.eu/wp-content/uploads/2026/01/02_Fantastic-Negrito.jpeg
END:VEVENT
END:VCALENDAR