BEGIN:VCALENDAR
VERSION:2.0
PRODID:-//Visit Pistoia - ECPv5.3.1//NONSGML v1.0//EN
CALSCALE:GREGORIAN
METHOD:PUBLISH
X-WR-CALNAME:Visit Pistoia
X-ORIGINAL-URL:https://www.visitpistoia.eu
X-WR-CALDESC:Eventi per Visit Pistoia
BEGIN:VTIMEZONE
TZID:Europe/Rome
BEGIN:DAYLIGHT
TZOFFSETFROM:+0100
TZOFFSETTO:+0200
TZNAME:CEST
DTSTART:20260329T010000
END:DAYLIGHT
BEGIN:STANDARD
TZOFFSETFROM:+0200
TZOFFSETTO:+0100
TZNAME:CET
DTSTART:20261025T010000
END:STANDARD
END:VTIMEZONE
BEGIN:VEVENT
DTSTART;VALUE=DATE:20260501
DTEND;VALUE=DATE:20260504
DTSTAMP:20260424T005715
CREATED:20260423T080347Z
LAST-MODIFIED:20260423T080701Z
UID:70756-1777593600-1777852799@www.visitpistoia.eu
SUMMARY:Pizza Festival Pistoia
DESCRIPTION:Il Pizza Festival torna a Pistoia con l’originale evento dedicato alla pizza\, protagonista assoluta della manifestazione. Otto forni sempre attivi e circa 20 pizzaioli proporranno pizza in tutte le sue varianti: napoletana\, gourmet\, fritta e senza glutine\, insieme a street food e dolci della tradizione campana. \nDal 1 al 3 maggio 2026\, al Parco della Rana saranno presenti maestri pizzaioli con preparazioni espresse e ingredienti di alta qualità legati alla tradizione artigianale. Non mancheranno area food con cuoppi\, sfogliatelle e fritti\, oltre a spettacoli\, animazione per famiglie e bambini\, area giochi e laboratori dedicati. \nDettagli\nQuando: dal 1 al 3 maggio\nOrario: dalle 12 alle 24\nIngresso gratuito.\nEvento confermato anche in caso di pioggia. \nInfo\nPizza Festival\npizza.festival.tour@gmail.com \nPhoto credit: Pizza Festival Facebook
URL:https://www.visitpistoia.eu/evento/pizza-festival-pistoia-2026/
LOCATION:Parco della Rana\, Parco della Rana\, Pistoia\, 51100
ATTACH;FMTTYPE=image/jpeg:https://www.visitpistoia.eu/wp-content/uploads/2026/04/Pizza-Festival-Facebook-e1776931421556.jpg
END:VEVENT
END:VCALENDAR