BEGIN:VCALENDAR
VERSION:2.0
PRODID:-//Visit Pistoia - ECPv5.3.1//NONSGML v1.0//EN
CALSCALE:GREGORIAN
METHOD:PUBLISH
X-WR-CALNAME:Visit Pistoia
X-ORIGINAL-URL:https://www.visitpistoia.eu
X-WR-CALDESC:Eventi per Visit Pistoia
BEGIN:VTIMEZONE
TZID:Europe/Rome
BEGIN:DAYLIGHT
TZOFFSETFROM:+0100
TZOFFSETTO:+0200
TZNAME:CEST
DTSTART:20250330T010000
END:DAYLIGHT
BEGIN:STANDARD
TZOFFSETFROM:+0200
TZOFFSETTO:+0100
TZNAME:CET
DTSTART:20251026T010000
END:STANDARD
END:VTIMEZONE
BEGIN:VEVENT
DTSTART;TZID=Europe/Rome:20251116T163000
DTEND;TZID=Europe/Rome:20251116T163000
DTSTAMP:20260422T075040
CREATED:20251102T165600Z
LAST-MODIFIED:20251104T151012Z
UID:66741-1763310600-1763310600@www.visitpistoia.eu
SUMMARY:Popiglio: Tommaso De Santis in Scholé
DESCRIPTION:A più di settant’anni dalla nascita della Scuola di Barbiana\, Tommaso De Santis porta sul palco del Teatro Mascagni di Popiglio Scholé. La rivoluzione della Scuola di Barbiana\, un monologo teatrale da lui scritto\, diretto e interpretato. \nProduzione Teatri di Pistoia – Centro di Produzione Teatrale. \nDomenica 16 novembre 2025\, alle ore 16.30\, il pubblico sarà invitato a rivivere una delle esperienze educative più significative del Novecento: la storia di un modo nuovo e coraggioso di intendere l’istruzione\, capace di lasciare un segno profondo nella società italiana e nel pensiero pedagogico contemporaneo. \nAl centro della narrazione emerge la figura di Don Lorenzo Milani\, il parroco di una piccola frazione del Mugello\, spesso osteggiato dalle istituzioni ecclesiastiche ma determinato a restituire parola\, dignità e strumenti di conoscenza a chi ne era sempre stato privato. \nSeguendo il solco del Teatro di Narrazione\, Scholé intreccia racconto e partecipazione diretta del pubblico\, creando un dialogo vivo e partecipe. Con ironia e intensità emotiva\, lo spettacolo invita a riflettere sul valore dell’educazione e sul futuro che vogliamo costruire. \nDettagli\nBiglietti: Posto unico € 10 | Studenti under 30 € 5\nIl giorno dello spettacolo la biglietteria del Teatro Mascagni aprirà alle ore 15.30.\nI biglietti prenotati dovranno essere ritirati presso la biglietteria entro le ore 16. \nServizio navetta da Pontepetri\, Campo Tizzoro\, Maresca\, Gavinana e San Marcello Pistoiese. Attiva al raggiungimento di minimo 6 prenotazioni (max 16 posti). \nInfo e prenotazioni\nBiblioteca Comunale Paolo Bellucci\n+39 0573 621289 (Lun 9-12.30\, mar-sab 9-12.30 e 14-17) \nTeatri di Pistoia\n+39 0573 991609 – 27112
URL:https://www.visitpistoia.eu/evento/popiglio-tommaso-de-santis-in-schole/
LOCATION:Teatro Mascagni\, Via delle Corti 57\, Popiglio\, San Marcello Pistoiese\, 51020\, Italia
ATTACH;FMTTYPE=image/jpeg:https://www.visitpistoia.eu/wp-content/uploads/2025/11/image00085-scaled-1.jpeg
END:VEVENT
END:VCALENDAR