BEGIN:VCALENDAR
VERSION:2.0
PRODID:-//Visit Pistoia - ECPv5.3.1//NONSGML v1.0//EN
CALSCALE:GREGORIAN
METHOD:PUBLISH
X-WR-CALNAME:Visit Pistoia
X-ORIGINAL-URL:https://www.visitpistoia.eu
X-WR-CALDESC:Eventi per Visit Pistoia
BEGIN:VTIMEZONE
TZID:Europe/Rome
BEGIN:DAYLIGHT
TZOFFSETFROM:+0100
TZOFFSETTO:+0200
TZNAME:CEST
DTSTART:20260329T010000
END:DAYLIGHT
BEGIN:STANDARD
TZOFFSETFROM:+0200
TZOFFSETTO:+0100
TZNAME:CET
DTSTART:20261025T010000
END:STANDARD
END:VTIMEZONE
BEGIN:VEVENT
DTSTART;TZID=Europe/Rome:20260510T093000
DTEND;TZID=Europe/Rome:20260510T123000
DTSTAMP:20260424T005111
CREATED:20260120T164108Z
LAST-MODIFIED:20260120T164200Z
UID:68888-1778405400-1778416200@www.visitpistoia.eu
SUMMARY:Premio Letterario Internazionale Ceppo 2026
DESCRIPTION:La 70ª edizione del Premio Letterario Internazionale Ceppo Pistoia\, Ceppo Biennale Racconto 2025–2026\, si conferma come uno degli appuntamenti più significativi del panorama letterario nazionale e internazionale. \nLa cerimonia di premiazione si terrà domenica 10 maggio 2026\, dalle ore 9.30 alle 12.30\, presso la Sala Maggiore del Palazzo Comunale di Pistoia. Durante l’evento\, la Giuria dei Giovani Lettori Under 35 voterà in diretta il vincitore del premio. \nL’evento è reso possibile grazie al patrocinio del MIC\, alla compartecipazione del Consiglio regionale della Toscana (Festa della Toscana) e del Comune di Pistoia\, con il sostegno della Fondazione Caript\, Chianti Mutua e Fondazione Poma\, con il contributo di UILT\, Berni Pistoia Ceramica e Giorgio Tesi Group. \nInfo\nPremio Ceppo\ninfo@premioceppo.it
URL:https://www.visitpistoia.eu/evento/premio-letterario-internazionale-ceppo-2026/
LOCATION:Sala Maggiore del Palazzo Comunale\, Piazza del Duomo\, Pistoia\, 51100\, Italia
ATTACH;FMTTYPE=image/jpeg:https://www.visitpistoia.eu/wp-content/uploads/2022/12/libro-fiaba.jpg
END:VEVENT
END:VCALENDAR