BEGIN:VCALENDAR
VERSION:2.0
PRODID:-//Visit Pistoia - ECPv5.3.1//NONSGML v1.0//EN
CALSCALE:GREGORIAN
METHOD:PUBLISH
X-WR-CALNAME:Visit Pistoia
X-ORIGINAL-URL:https://www.visitpistoia.eu
X-WR-CALDESC:Eventi per Visit Pistoia
BEGIN:VTIMEZONE
TZID:Europe/Rome
BEGIN:DAYLIGHT
TZOFFSETFROM:+0100
TZOFFSETTO:+0200
TZNAME:CEST
DTSTART:20250330T010000
END:DAYLIGHT
BEGIN:STANDARD
TZOFFSETFROM:+0200
TZOFFSETTO:+0100
TZNAME:CET
DTSTART:20251026T010000
END:STANDARD
END:VTIMEZONE
BEGIN:VEVENT
DTSTART;VALUE=DATE:20250209
DTEND;VALUE=DATE:20250210
DTSTAMP:20260419T174045
CREATED:20241120T154531Z
LAST-MODIFIED:20241203T200124Z
UID:56857-1739059200-1739145599@www.visitpistoia.eu
SUMMARY:Equilibrio: Musica e Benessere
DESCRIPTION:Da novembre 2024 a maggio 2025\, la Fondazione Luigi Tronci di Pistoia ospita Equilibrio: Musica e Benessere\, una rassegna che unisce armoniosamente la musica a pratiche olistiche per il benessere e la crescita interiore. \nOgni appuntamento invita i partecipanti a intraprendere un viaggio sensoriale in cui suoni\, ritmi e melodie si fondono con meditazione\, yoga\, tecniche di respirazione e attività di ascolto profondo. \nProgramma\nSabato 23 novembre – Respirazione alchemica: meditazione della manifestazione \nDomenica 8 dicembre – Respiro circolare con la musica africana \nGiovedì 26 dicembre – Bagno di gong e strumenti ancestrali \nDomenica 12 gennaio – Sintonia sonora \nDomenica 2 febbraio – Festa di Jemanja \nSabato 8 e domenica 9 febbraio – VibrAzioni \nDomenica 2 marzo – Bagno di gong. Pratica di consapevolezza attraverso il suono \nSabato 29 marzo – Meditation Bells \nDomenica 6 aprile – Risveglio di primavera \nVenerdì 9 maggio – I suoni delle meteore \nInfo\nFondazione Luigi Tronci
URL:https://www.visitpistoia.eu/evento/rassegna-equilibrio-musica-e-benessere-fondazione-luigi-tronci/2025-02-09/
LOCATION:Fondazione Luigi Tronci\, Corso A. Gramsci\, 7\, Pistoia\, 51100\, Italia
ATTACH;FMTTYPE=image/jpeg:https://www.visitpistoia.eu/wp-content/uploads/2024/11/musica-meditazione-campane-tibetane.jpg
END:VEVENT
END:VCALENDAR