BEGIN:VCALENDAR
VERSION:2.0
PRODID:-//Visit Pistoia - ECPv5.3.1//NONSGML v1.0//EN
CALSCALE:GREGORIAN
METHOD:PUBLISH
X-WR-CALNAME:Visit Pistoia
X-ORIGINAL-URL:https://www.visitpistoia.eu
X-WR-CALDESC:Eventi per Visit Pistoia
BEGIN:VTIMEZONE
TZID:Europe/Rome
BEGIN:DAYLIGHT
TZOFFSETFROM:+0100
TZOFFSETTO:+0200
TZNAME:CEST
DTSTART:20260329T010000
END:DAYLIGHT
BEGIN:STANDARD
TZOFFSETFROM:+0200
TZOFFSETTO:+0100
TZNAME:CET
DTSTART:20261025T010000
END:STANDARD
END:VTIMEZONE
BEGIN:VEVENT
DTSTART;TZID=Europe/Rome:20260205T203000
DTEND;TZID=Europe/Rome:20260205T203000
DTSTAMP:20260425T141356
CREATED:20260123T142826Z
LAST-MODIFIED:20260123T142826Z
UID:69001-1770323400-1770323400@www.visitpistoia.eu
SUMMARY:Sarto per signora al Bolognini
DESCRIPTION:Giovedì 5 febbraio 2026\, alle ore 20.30\, sul palco del Piccolo Teatro Mauro Bolognini va in scena la commedia Sarto per signora di Georges Feydeau. Regia di Alessandro Mollo. \nIl dottor Moulineaux\, sospettato di tradimento dalla moglie\, inventa una scusa per una notte fuori casa e affitta un appartamento. Qui\, tra una porta rotta e una serie di ingressi imprevisti di mariti\, amanti e parenti\, si susseguono equivoci e travestimenti. \nEvento a cura di Associazione Panta Rei in collaborazione con Casa di Alice Onlus.\nClicca qui per la locandina \nDettagli\nBiglietto: € 10 (Il ricavato sarà utilizzato per la realizzazione di un progetto dedicato agli utenti dei centri diari) \nInfo\nAlice Cooperativa Sociale Onlus Comune di Pistoia\nalice@alicecoop.it
URL:https://www.visitpistoia.eu/evento/sarto-per-signora-al-bolognini/
LOCATION:Piccolo Teatro Bolognini\, Via del Presto\, 5\, Pistoia\, 51100\, Italia
ATTACH;FMTTYPE=image/jpeg:https://www.visitpistoia.eu/wp-content/uploads/2026/01/sarto-cucire-bottoni.jpg
END:VEVENT
END:VCALENDAR