BEGIN:VCALENDAR
VERSION:2.0
PRODID:-//Visit Pistoia - ECPv5.3.1//NONSGML v1.0//EN
CALSCALE:GREGORIAN
METHOD:PUBLISH
X-WR-CALNAME:Visit Pistoia
X-ORIGINAL-URL:https://www.visitpistoia.eu
X-WR-CALDESC:Eventi per Visit Pistoia
BEGIN:VTIMEZONE
TZID:Europe/Rome
BEGIN:DAYLIGHT
TZOFFSETFROM:+0100
TZOFFSETTO:+0200
TZNAME:CEST
DTSTART:20260329T010000
END:DAYLIGHT
BEGIN:STANDARD
TZOFFSETFROM:+0200
TZOFFSETTO:+0100
TZNAME:CET
DTSTART:20261025T010000
END:STANDARD
END:VTIMEZONE
BEGIN:VEVENT
DTSTART;VALUE=DATE:20260731
DTEND;VALUE=DATE:20260803
DTSTAMP:20260424T024315
CREATED:20260423T085826Z
LAST-MODIFIED:20260423T085826Z
UID:70771-1785456000-1785715199@www.visitpistoia.eu
SUMMARY:Serravalle Rock
DESCRIPTION:Da venerdì 31 luglio a domenica 2 agosto 2026\, la suggestiva Rocca di Castruccio a Serravalle Pistoiese tornerà ad ospitare Serravalle Rock\, il festival dedicato alle band emergenti che\, giunto alla sua X edizione\, si conferma un appuntamento cult dell’estate musicale toscana. \nÈ confermata la presenza dei Virgin Orchestra\, trio post-punk islandese tra le realtà più interessanti della scena internazionale. Dopo il debutto Fragments e il recente EP Let It Burn\, la band si prepara a pubblicare un nuovo singolo e a portare sul palco uno spettacolo unico. La loro musica fonde sonorità industrial e aggressive con sintetizzatori ipnotici\, archi cinematografici e venature pop\, creando un’atmosfera intensa e malinconica che rende i loro concerti un’esperienza immersiva\, oltre il semplice rock. \nNei prossimi mesi verrà svelato il programma completo. \nInfo\nSerravalle Rock
URL:https://www.visitpistoia.eu/evento/serravalle-rock-2026/
LOCATION:Rocca Nuova o di Castruccio\, Rocca Nuova\, Serravalle Pistoiese\, 51030
ATTACH;FMTTYPE=image/jpeg:https://www.visitpistoia.eu/wp-content/uploads/2025/07/Serravalle-Rock-2025.jpg
END:VEVENT
END:VCALENDAR