BEGIN:VCALENDAR
VERSION:2.0
PRODID:-//Visit Pistoia - ECPv5.3.1//NONSGML v1.0//EN
CALSCALE:GREGORIAN
METHOD:PUBLISH
X-WR-CALNAME:Visit Pistoia
X-ORIGINAL-URL:https://www.visitpistoia.eu
X-WR-CALDESC:Eventi per Visit Pistoia
BEGIN:VTIMEZONE
TZID:Europe/Rome
BEGIN:DAYLIGHT
TZOFFSETFROM:+0100
TZOFFSETTO:+0200
TZNAME:CEST
DTSTART:20250330T010000
END:DAYLIGHT
BEGIN:STANDARD
TZOFFSETFROM:+0200
TZOFFSETTO:+0100
TZNAME:CET
DTSTART:20251026T010000
END:STANDARD
END:VTIMEZONE
BEGIN:VEVENT
DTSTART;TZID=Europe/Rome:20251228T160000
DTEND;TZID=Europe/Rome:20251228T160000
DTSTAMP:20260425T044225
CREATED:20251203T155235Z
LAST-MODIFIED:20251203T160130Z
UID:67919-1766937600-1766937600@www.visitpistoia.eu
SUMMARY:Spettacolo: Questo è solo… l’inizio
DESCRIPTION:Domenica 28 dicembre 2025\, alle ore 16\, presso la Casa della Musica di Piteglio\, andrà in scena Questo è solo… l’inizio\, uno spettacolo teatrale di Natale pensato per i bambini e per tutta la famiglia. \nSarà un viaggio divertente e magico\, tra risate e momenti di stupore\, in compagnia di personaggi buffi e sorprendenti. Tra le avventure dei protagonisti\, i piccoli spettatori scopriranno valori importanti come la diversità\, l’inclusione\, la collaborazione e l’amicizia\, imparando quanto sia bello essere unici e speciali insieme agli altri. \nEvento a ingresso gratuito. \nClicca qui per la locandina\nScoprite le iniziative natalizie della Montagna Pistoiese \nInfo\nPro Loco Piteglio\nprolocopiteglio@gmail.com
URL:https://www.visitpistoia.eu/evento/spettacolo-questo-e-solo-linizio-piteglio-natale/
LOCATION:Casa della Musica\, Via Piteglio Val di Forfora 1\, San Marcello Piteglio\, 51028
ATTACH;FMTTYPE=image/jpeg:https://www.visitpistoia.eu/wp-content/uploads/2024/02/bambini-notte-bambino-infanzia.jpg
END:VEVENT
END:VCALENDAR