BEGIN:VCALENDAR
VERSION:2.0
PRODID:-//Visit Pistoia - ECPv5.3.1//NONSGML v1.0//EN
CALSCALE:GREGORIAN
METHOD:PUBLISH
X-WR-CALNAME:Visit Pistoia
X-ORIGINAL-URL:https://www.visitpistoia.eu
X-WR-CALDESC:Eventi per Visit Pistoia
BEGIN:VTIMEZONE
TZID:Europe/Rome
BEGIN:DAYLIGHT
TZOFFSETFROM:+0100
TZOFFSETTO:+0200
TZNAME:CEST
DTSTART:20250330T010000
END:DAYLIGHT
BEGIN:STANDARD
TZOFFSETFROM:+0200
TZOFFSETTO:+0100
TZNAME:CET
DTSTART:20251026T010000
END:STANDARD
END:VTIMEZONE
BEGIN:VEVENT
DTSTART;TZID=Europe/Rome:20250216T180000
DTEND;TZID=Europe/Rome:20250216T180000
DTSTAMP:20260420T103755
CREATED:20250212T132808Z
LAST-MODIFIED:20250212T132946Z
UID:59009-1739728800-1739728800@www.visitpistoia.eu
SUMMARY:Vespri d’Organo 2025
DESCRIPTION:L’Accademia Internazionale d’Organo vi invita alla Chiesa di Sant’Ignazio di Loyola a Pistoia per la rassegna Vespri d’Organo\, con esibizioni di Yuko Tokuda e Hidemi Boku. \nProgramma\nDomenica 16 febbraio\nOre 18 – Yuko Tokuda\nYuko Tokuda ha studiato musicologia al Kunitachi College of Music di Tokyo e organo sotto la guida di Liliko Fukai\, Tsuguo Hirono\, Naoya Otsuka e Miho Hasegawa. Si è laureata in musica antica\, specializzandosi in organo barocco\, presso la Tokyo University of the Arts (Geidai). Ha frequentato numerosi corsi di perfezionamento in Giappone e in Europa e\, nel 2017\, ha vinto il Premio Pistoia all’Accademia di Musica Italiana per Organo di Shirakawa. Attualmente è organista presso l’Aoyama Gakuin University di Tokyo\, la chiesa Soshin Baptist di Yokohama e la chiesa Stant Michael di Tokyo. \nClicca qui per la locandina. \nVenerdì 21 febbraio\nOre 20.30 – Hidemi Boku\nVincitrice Premio Gherardeschi 2019 \nHidemi Boku\, nata a Osaka\, ha studiato organo con Margareta Hürholz presso la Künstlerische Ausbildung della Musikhochschule di Colonia\, nonché con Pieter van Dijk e Jean Boyer\, eseguendo il concerto finale sull’organo Schnitger della Stant Laurenskerk di Alkmaar. Successivamente\, ha approfondito la prassi esecutiva storica per organo\, clavicembalo e clavicordo sotto la guida di Harald Vogel e Carsten Lohff presso la Hochschule für Künste di Brema\, diplomandosi con il massimo dei voti. \nSi è perfezionata con Eric Lebrun\, Olivier Latry\, Lorenzo Ghielmi\, Michael Radulescu\, Ludger Lohmann\, Jon Laukvik\, Wolfgang Zerer e altri. Ha tenuto concerti in Giappone\, Germania\, Paesi Bassi\, Finlandia\, Italia e Francia. Nel 2019 ha studiato con Umberto Pineschi all’Accademia di Musica Italiana di Shirakawa\, dove ha vinto il Premio Gherardeschi. \nClicca qui per la locandina. \nInfo\nAccademia Internazionale d’Organo – Il Rossignolo
URL:https://www.visitpistoia.eu/evento/vespri-dorgano-2025/2025-02-16/
LOCATION:Chiesa di Sant’Ignazio\, Piazza Spirito Santo 8\, Pistoia\, 51100
ATTACH;FMTTYPE=image/jpeg:https://www.visitpistoia.eu/wp-content/uploads/2023/06/105-chiesa-santignazio-1160x775-1.jpg
END:VEVENT
END:VCALENDAR