BEGIN:VCALENDAR
VERSION:2.0
PRODID:-//Visit Pistoia - ECPv5.3.1//NONSGML v1.0//EN
CALSCALE:GREGORIAN
METHOD:PUBLISH
X-WR-CALNAME:Visit Pistoia
X-ORIGINAL-URL:https://www.visitpistoia.eu
X-WR-CALDESC:Eventi per Visit Pistoia
BEGIN:VTIMEZONE
TZID:Europe/Rome
BEGIN:DAYLIGHT
TZOFFSETFROM:+0100
TZOFFSETTO:+0200
TZNAME:CEST
DTSTART:20250330T010000
END:DAYLIGHT
BEGIN:STANDARD
TZOFFSETFROM:+0200
TZOFFSETTO:+0100
TZNAME:CET
DTSTART:20251026T010000
END:STANDARD
END:VTIMEZONE
BEGIN:VEVENT
DTSTART;TZID=Europe/Rome:20251012T120000
DTEND;TZID=Europe/Rome:20251012T200000
DTSTAMP:20260419T164818
CREATED:20250924T083927Z
LAST-MODIFIED:20250924T084331Z
UID:65469-1760270400-1760299200@www.visitpistoia.eu
SUMMARY:VininSala. Degustazione enologica 2025
DESCRIPTION:Domenica 12 ottobre 2025\, dalle 12 alle 20\, torna VininSala\, la degustazione enologica promossa dal Comparto La Sala. Un appuntamento unico nel cuore di Pistoia\, con oltre 100 vini e 40 produttori da scoprire. \nIn piazza della Sala saranno allestiti numerosi stand\, dove degustare nuove etichette e incontrare i protagonisti del mondo del vino. \nOrganizzato da La Sala e Consorzio Turistico di Pistoia\, in collaborazione con Confcommercio e AIS toscana\, con il patrocinio del Comune di Pistoia. Partner tecnico Zona Market. \nClicca qui per la locandina \nInfo\nLa Sala \nPHOTO CREDIT: LA SALA FACEBOOK
URL:https://www.visitpistoia.eu/evento/vininsala-degustazione-enologica-12-ottobre-2025/
LOCATION:Piazza della Sala\, Piazza della Sala\, Pistoia\, 51100
ATTACH;FMTTYPE=image/jpeg:https://www.visitpistoia.eu/wp-content/uploads/2023/10/La-Sala-Facebook.jpg
END:VEVENT
END:VCALENDAR